BEGIN:VCALENDAR
VERSION:2.0
PRODID:-//ChamberMaster//Event Calendar 2.0//EN
METHOD:PUBLISH
X-PUBLISHED-TTL:P3D
REFRESH-INTERVAL:P3D
CALSCALE:GREGORIAN
BEGIN:VEVENT
DTSTART:20240929T000000Z
DTEND:20240929T040000Z
X-MICROSOFT-CDO-ALLDAYEVENT:FALSE
SUMMARY:Montesano BrewFest
DESCRIPTION:The Montesano BrewFest is an annual event held in Montesano\, Washington on the last Saturday in September. It features a variety of brewed beverages\, including beer\, wine\, and cider from local breweries and wineries. The festival offers live music\, food vendors\, and a rousing cornhole tournament.\n\nThis year's BrewFest will take place at Whitney's Detail Shop and in Fleet Park! With our annual cornhole tournament and performances by Dogger and The Six\, this event is one you won't want to miss! Tickets are $25 and include 4 drink tickets (4 oz pours) and the first 300 to check in get a commemorative glass to go home with them!\n\nCorn hole tournament entry is $50 per team\, with cash prizes of $200 for 1st place\, $100 for 2nd place and $50 for 3rd place. Sponsored by Oly Pen Real Estate.\n\nCraft beers\, wines\, ciders and food! Age 21+ only and ID required on site.\n\nKeeping It Safe!\n\nDining Discounts of 10% food purchases with BrewFest Wristband available from 8pm-10pm at Gene's Stop and Go and Gepetto's Italian Restaurant and Sports Bar. Walk on over after and grab a bite to eat before heading home!\n\nDesignated Drivers can get a "no alcohol wristband" and get in free with ID (sodas and water available at no charge!)
X-ALT-DESC;FMTTYPE=text/html:<div class="xdj266r x11i5rnm xat24cr x1mh8g0r x1vvkbs" style="margin: 0px\; overflow-wrap: break-word\; font-family: &quot\;Segoe UI Historic&quot\;\, &quot\;Segoe UI&quot\;\, Helvetica\, Arial\, sans-serif\; color: rgb(5\, 5\, 5)\; font-size: 15px\;"><span style="font-family:arial\;">The Montesano BrewFest is an annual event held in Montesano\, Washington on the last Saturday in September. It features a variety of brewed beverages\, including beer\, wine\, and cider from local breweries and wineries. The festival offers live music\, food vendors\, and a rousing cornhole tournament.</span></div>\n\n<div class="x11i5rnm xat24cr x1mh8g0r x1vvkbs xtlvy1s" style="margin: 0.5em 0px 0px\; overflow-wrap: break-word\; font-family: &quot\;Segoe UI Historic&quot\;\, &quot\;Segoe UI&quot\;\, Helvetica\, Arial\, sans-serif\; color: rgb(5\, 5\, 5)\; font-size: 15px\;"><span style="font-family:arial\;">This year&#39\;s BrewFest will take place at Whitney&#39\;s Detail Shop and in Fleet Park! With our annual cornhole tournament and performances by Dogger and The Six\, this event is one you won&#39\;t want to miss! Tickets are $25 and include 4 drink tickets (4 oz pours) and the first 300 to check in get a commemorative glass to go home with them!</span></div>\n\n<div class="x11i5rnm xat24cr x1mh8g0r x1vvkbs xtlvy1s" style="margin: 0.5em 0px 0px\; overflow-wrap: break-word\; font-family: &quot\;Segoe UI Historic&quot\;\, &quot\;Segoe UI&quot\;\, Helvetica\, Arial\, sans-serif\; color: rgb(5\, 5\, 5)\; font-size: 15px\;"><span style="font-family:arial\;">Corn hole tournament entry is $50 per team\, with cash prizes of $200 for 1st place\, $100 for 2nd place and $50 for 3rd place. Sponsored by Oly Pen Real Estate.</span></div>\n\n<div class="x11i5rnm xat24cr x1mh8g0r x1vvkbs xtlvy1s" style="margin: 0.5em 0px 0px\; overflow-wrap: break-word\; font-family: &quot\;Segoe UI Historic&quot\;\, &quot\;Segoe UI&quot\;\, Helvetica\, Arial\, sans-serif\; color: rgb(5\, 5\, 5)\; font-size: 15px\;"><span style="font-family:arial\;">Craft beers\, wines\, ciders and food! Age 21+ only and ID required on site.</span></div>\n\n<div class="x11i5rnm xat24cr x1mh8g0r x1vvkbs xtlvy1s" style="margin: 0.5em 0px 0px\; overflow-wrap: break-word\; font-family: &quot\;Segoe UI Historic&quot\;\, &quot\;Segoe UI&quot\;\, Helvetica\, Arial\, sans-serif\; color: rgb(5\, 5\, 5)\; font-size: 15px\;"><span style="font-family:arial\;">Keeping It Safe!<br class="html-br" />\nDining Discounts of 10% food purchases with BrewFest Wristband available from 8pm-10pm at Gene&#39\;s Stop and Go and Gepetto&#39\;s Italian Restaurant and Sports Bar. Walk on over after and grab a bite to eat before heading home!</span></div>\n\n<div class="x11i5rnm xat24cr x1mh8g0r x1vvkbs xtlvy1s" style="margin: 0.5em 0px 0px\; overflow-wrap: break-word\; font-family: &quot\;Segoe UI Historic&quot\;\, &quot\;Segoe UI&quot\;\, Helvetica\, Arial\, sans-serif\; color: rgb(5\, 5\, 5)\; font-size: 15px\;"><span style="font-family:arial\;">Designated Drivers can get a &quot\;no alcohol wristband&quot\; and get in free with ID (sodas and water available at no charge!)</span></div>\n
LOCATION:Fleet Park 244 W Pioneer Ave Montesano\, WA
UID:e.26.14837
SEQUENCE:3
DTSTAMP:20260423T150224Z
URL:https://chamber.graysharbor.org/events/details/montesano-brewfest-14837
END:VEVENT

END:VCALENDAR
