BEGIN:VCALENDAR
VERSION:2.0
PRODID:-//ChamberMaster//Event Calendar 2.0//EN
METHOD:PUBLISH
X-PUBLISHED-TTL:P3D
REFRESH-INTERVAL:P3D
CALSCALE:GREGORIAN
BEGIN:VEVENT
DTSTART:20190505T210000Z
DTEND:20190506T000000Z
X-MICROSOFT-CDO-ALLDAYEVENT:FALSE
SUMMARY:Montesano Inn High Tea
DESCRIPTION:Have you ever been to a High Tea? Would you like to bring Mom to high tea as an early Mothers Day gift? Well\, the Montesano Inn is hosting a High Tea with Claire Hollenbaugh giving the presentation. The date is May 5th at 2 p.m. The cost is $5.00\, which includes tea\, scones and jam. If you would like to attend we are taking reservations until April 6. Call soon as space is limited. If you have a reservation for the bed and breakfast for May 5\, Pam will include the tea as part of your stay!! Please call 360-888-3733 for reservations or come by the Inn.
X-ALT-DESC;FMTTYPE=text/html:<span style="caret-color: rgb(29\, 33\, 41)\; color: rgb(29\, 33\, 41)\; font-family: system-ui\, -apple-system\, BlinkMacSystemFont\, &quot\;.SFNSText-Regular&quot\;\, sans-serif\; font-size: 14px\; white-space: pre-wrap\;">Have you ever been to a High Tea? Would you like to bring Mom to high tea as an early Mothers Day gift? Well\, the Montesano Inn is hosting a High Tea with Claire Hollenbaugh giving the presentation. The date is May 5th at 2 p.m. The cost is $5.00\, which includes tea\, scones and jam. If you would like to attend we are taking reservations until April 6. Call soon as space is limited. If you have a reservation for the bed and breakfast for May 5\, Pam will include the tea as part of your stay!! Please call 360-888-3733 for reservations or come by the Inn.</span>
LOCATION:pin Montesano Inn 130 N. Main st.\, Montesano\, Washington 98563
UID:e.26.11799
SEQUENCE:3
DTSTAMP:20260424T132714Z
URL:https://chamber.graysharbor.org/events/details/montesano-inn-high-tea-11799
END:VEVENT

END:VCALENDAR
