BEGIN:VCALENDAR
VERSION:2.0
PRODID:-//ChamberMaster//Event Calendar 2.0//EN
METHOD:PUBLISH
X-PUBLISHED-TTL:P3D
REFRESH-INTERVAL:P3D
CALSCALE:GREGORIAN
BEGIN:VEVENT
DTSTART:20200711T160000Z
DTEND:20200711T200000Z
X-MICROSOFT-CDO-ALLDAYEVENT:FALSE
SUMMARY:Montesano Saturday Morning Market Opening Day
DESCRIPTION:Come join us for our 5th annual Montesano Saturday Morning Market.
X-ALT-DESC;FMTTYPE=text/html:<span style="caret-color: rgb(29\, 33\, 41)\; color: rgb(29\, 33\, 41)\; font-family: system-ui\, -apple-system\, BlinkMacSystemFont\, &quot\;.SFNSText-Regular&quot\;\, sans-serif\; font-size: 14px\; white-space: pre-wrap\;">Come join us for our 5th annual Montesano Saturday Morning Market. </span>
LOCATION:Fleet Park Montesano\, WA
UID:e.26.12475
SEQUENCE:3
DTSTAMP:20260424T121027Z
URL:https://chamber.graysharbor.org/events/details/montesano-saturday-morning-market-opening-day-12475
END:VEVENT

END:VCALENDAR
