BEGIN:VCALENDAR
VERSION:2.0
PRODID:-//ChamberMaster//Event Calendar 2.0//EN
METHOD:PUBLISH
X-PUBLISHED-TTL:P3D
REFRESH-INTERVAL:P3D
CALSCALE:GREGORIAN
BEGIN:VEVENT
DTSTART:20251111T190000Z
DTEND:20251111T210000Z
X-MICROSOFT-CDO-ALLDAYEVENT:FALSE
SUMMARY:Montesano VFW Veterans Day Service and Luncheon
DESCRIPTION:Join the Montesano VFW at the Post for their Veterans Day Service\, where they gather to remember\, honor\, and celebrate those who have served our nation. The service will be followed by a free luncheon for veterans\, members and community guests. This is a potluck event\; the Post will provide sandwiches. Please bring your favorite side dish or dessert to share.
X-ALT-DESC;FMTTYPE=text/html:<p style="box-sizing: border-box\; margin-top: 0px\; margin-bottom: 1.7rem\; font-size: 16px\; max-width: 640px\; color: rgb(26\, 26\, 26)\; font-family: Merriweather\, serif\;"><span style="font-size:14px\;"><span style="font-family:arial\;">Join the Montesano VFW&nbsp\;at the Post for their Veterans Day Service\, where they gather to remember\, honor\, and celebrate those who have served our nation. The service will be followed by a free luncheon for veterans\,&nbsp\;members and community guests. This is a potluck event\; the Post will provide sandwiches. Please bring your favorite side dish or dessert to share.</span></span></p>\n
LOCATION:315 S Main St.
UID:e.26.15299
SEQUENCE:3
DTSTAMP:20260423T222039Z
URL:https://chamber.graysharbor.org/events/details/montesano-vfw-veterans-day-service-and-luncheon-15299
END:VEVENT

END:VCALENDAR
