BEGIN:VCALENDAR
VERSION:2.0
PRODID:-//ChamberMaster//Event Calendar 2.0//EN
METHOD:PUBLISH
X-PUBLISHED-TTL:P3D
REFRESH-INTERVAL:P3D
CALSCALE:GREGORIAN
BEGIN:VEVENT
DTSTART:20190314T020000Z
DTEND:20190314T040000Z
X-MICROSOFT-CDO-ALLDAYEVENT:FALSE
SUMMARY:Mosaic in Motion
DESCRIPTION:Mosaic in Motion is a free family friendly dance event that is open to the general public. It's a great way for the community to enjoy different styles of dance performances by all levels and ages of dance talent from the community and surrounding areas.
X-ALT-DESC;FMTTYPE=text/html:<span style="caret-color: rgb(29\, 33\, 41)\; color: rgb(29\, 33\, 41)\; font-family: system-ui\, -apple-system\, BlinkMacSystemFont\, &quot\;.SFNSText-Regular&quot\;\, sans-serif\; font-size: 14px\; white-space: pre-wrap\;">Mosaic in Motion is a free family friendly dance event that is open to the general public. It&#39\;s a great way for the community to enjoy different styles of dance performances by all levels and ages of dance talent from the community and surrounding areas. </span>
LOCATION:pin VFW Post 224 105 E Heron St\, Aberdeen\, Washington 98520
UID:e.26.11793
SEQUENCE:3
DTSTAMP:20260424T163240Z
URL:https://chamber.graysharbor.org/events/details/mosaic-in-motion-11793
END:VEVENT

END:VCALENDAR
