BEGIN:VCALENDAR
VERSION:2.0
PRODID:-//ChamberMaster//Event Calendar 2.0//EN
METHOD:PUBLISH
X-PUBLISHED-TTL:P3D
REFRESH-INTERVAL:P3D
CALSCALE:GREGORIAN
BEGIN:VEVENT
DTSTART:20171014T170000Z
DTEND:20171014T220000Z
X-MICROSOFT-CDO-ALLDAYEVENT:FALSE
SUMMARY:Mother-Daughter Beauty Day Special
DESCRIPTION:On October14th\, 2017 the students of Gray's Harbor Beauty College will be hosting a wonderful event dedicated to Mothers and Daughters.\n\nThe event will be held at the school\, includes snacks\, and great salon care from all of our wonderful aspiring students.\n\nFor $37\, there will be a package including\; \n\nMani/Pedi\n\nDeep Conditioning\n\nand your choice of either a facial or a styling.\n\nCALL TO SET UP AN APPOINTMENT\n\n(360)532-6666\n\n\n\n	Beauty
X-ALT-DESC;FMTTYPE=text/html:<div class="_2qgs" style="color: rgb(75\, 79\, 86)\; padding: 12px\; position: relative\; border-top: none\; font-family: Helvetica\, Arial\, sans-serif\; font-size: 12px\;"><span class="_4n-j _3cht fsl" data-testid="event-permalink-details" style="font-size: 14px\; font-family: inherit\;">On October14th\, 2017 the students of Gray&#39\;s Harbor Beauty College will be hosting a wonderful event dedicated to Mothers and Daughters.<br />\nThe event will be held at the school\, includes snacks\, and great salon care from all of our wonderful aspiring students.<br />\nFor $37\, there will be a package including\;&nbsp\;<br />\nMani/Pedi<br />\nDeep Conditioning<br />\nand your choice of either a facial or a styling.<br />\nCALL TO SET UP AN APPOINTMENT<br />\n(360)532-6666</span></div>\n\n<div class="_1r51" style="line-height: 24px\; margin: 4px 12px 12px\; min-height: 24px\; font-family: Helvetica\, Arial\, sans-serif\; color: rgb(29\, 33\, 41)\; font-size: 12px\;">\n<ul class="uiList uiCollapsedList uiCollapsedListHidden _509- _4ki" id="u_jsonp_14_n" style="list-style-type: none\; margin: 0px\; padding: 0px\;">\n	<li style="border-width: 0px\; display: inline-block\; vertical-align: top\;"><a href="https://www.facebook.com/events/discovery/?acontext=%7B%22ref%22%3A44%2C%22unit_ref%22%3A%22related_events%22%2C%22source%22%3A1%2C%22action_history%22%3A%22%5B%7B%5C%22surface%5C%22%3A%5C%22permalink%5C%22%2C%5C%22mechanism%5C%22%3A%5C%22RHC%5C%22%2C%5C%22extra_data%5C%22%3A%5B%5D%7D%2C%7B%5C%22surface%5C%22%3A%5C%22permalink%5C%22%2C%5C%22mechanism%5C%22%3A%5C%22surface%5C%22%2C%5C%22extra_data%5C%22%3A%5B%5D%7D%2C%7B%5C%22surface%5C%22%3A%5C%22permalink%5C%22%2C%5C%22mechanism%5C%22%3A%5C%22event_information%5C%22%2C%5C%22extra_data%5C%22%3A%7B%5C%22tag%5C%22%3A%5C%22Beauty%5C%22%7D%7D%5D%22%2C%22has_source%22%3Atrue%7D&amp\;suggestion_token=%7B%22tags%22%3A%5B375640872816792%5D%7D" style="color: rgb(54\, 88\, 153)\; cursor: pointer\; text-decoration-line: none\; font-family: inherit\;"><span class="_47od" style="background-color: rgb(237\, 242\, 250)\; border-radius: 2px\; color: rgb(32\, 55\, 95)\; display: block\; height: 14px\; line-height: 14px\; margin: 0px 4px 4px 0px\; padding: 4px 6px\; position: relative\; font-family: inherit\;">Beauty</span></a></li>\n</ul>\n</div>\n
LOCATION:Grays Harbor Beauty College 204 E Wishkah St. Aberdeen\, WA
UID:e.26.8273
SEQUENCE:3
DTSTAMP:20260425T214137Z
URL:https://chamber.graysharbor.org/events/details/mother-daughter-beauty-day-special-8273
END:VEVENT

END:VCALENDAR
