BEGIN:VCALENDAR
VERSION:2.0
PRODID:-//ChamberMaster//Event Calendar 2.0//EN
METHOD:PUBLISH
X-PUBLISHED-TTL:P3D
REFRESH-INTERVAL:P3D
CALSCALE:GREGORIAN
BEGIN:VEVENT
DTSTART:20190811T040000Z
DTEND:20190811T060000Z
X-MICROSOFT-CDO-ALLDAYEVENT:FALSE
SUMMARY:Movie in the Park
DESCRIPTION:Join the Montesano Chamber for this free event! \n\nThere will be some dessert vendors on site so you have snack options during the movie. \n\nMovie: Cars \n\n\n\nEvent sponsors: House Bros\, Five Star\, Our Community Credit Union & Thriftway
X-ALT-DESC;FMTTYPE=text/html:<span style="font-family:arial\;"><span style="caret-color: rgb(29\, 33\, 41)\; color: rgb(29\, 33\, 41)\; font-size: 14px\; white-space: pre-wrap\;">Join the Montesano Chamber for this free event! </span><br style="caret-color: rgb(29\, 33\, 41)\; color: rgb(29\, 33\, 41)\; font-family: system-ui\, -apple-system\, BlinkMacSystemFont\, &quot\;.SFNSText-Regular&quot\;\, sans-serif\; font-size: 14px\; white-space: pre-wrap\;" />\n<span style="caret-color: rgb(29\, 33\, 41)\; color: rgb(29\, 33\, 41)\; font-size: 14px\; white-space: pre-wrap\;">There will be some dessert vendors on site so you have snack options during the movie. </span><br style="caret-color: rgb(29\, 33\, 41)\; color: rgb(29\, 33\, 41)\; font-family: system-ui\, -apple-system\, BlinkMacSystemFont\, &quot\;.SFNSText-Regular&quot\;\, sans-serif\; font-size: 14px\; white-space: pre-wrap\;" />\n<span style="caret-color: rgb(29\, 33\, 41)\; color: rgb(29\, 33\, 41)\; font-size: 14px\; white-space: pre-wrap\;"><em>Movie: Cars</em> </span><br style="caret-color: rgb(29\, 33\, 41)\; color: rgb(29\, 33\, 41)\; font-family: system-ui\, -apple-system\, BlinkMacSystemFont\, &quot\;.SFNSText-Regular&quot\;\, sans-serif\; font-size: 14px\; white-space: pre-wrap\;" />\n<br style="caret-color: rgb(29\, 33\, 41)\; color: rgb(29\, 33\, 41)\; font-family: system-ui\, -apple-system\, BlinkMacSystemFont\, &quot\;.SFNSText-Regular&quot\;\, sans-serif\; font-size: 14px\; white-space: pre-wrap\;" />\n<span style="caret-color: rgb(29\, 33\, 41)\; color: rgb(29\, 33\, 41)\; font-size: 14px\; white-space: pre-wrap\;"><strong>Event sponsors: </strong></span><span style="caret-color: rgb(29\, 33\, 41)\; color: rgb(29\, 33\, 41)\; font-size: 14px\; white-space: pre-wrap\;">House Bros\, Five Star\, Our Community Credit Union &amp\; Thriftway</span></span>
LOCATION:pin Fleet Park 200 Block of Pioneer Ave. W\, Montesano\, Washington 98563
UID:e.26.12124
SEQUENCE:3
DTSTAMP:20260424T090443Z
URL:https://chamber.graysharbor.org/events/details/movie-in-the-park-12124
END:VEVENT

END:VCALENDAR
