BEGIN:VCALENDAR
VERSION:2.0
PRODID:-//ChamberMaster//Event Calendar 2.0//EN
METHOD:PUBLISH
X-PUBLISHED-TTL:P3D
REFRESH-INTERVAL:P3D
CALSCALE:GREGORIAN
BEGIN:VEVENT
DTSTART:20170827T023000Z
DTEND:20170827T050000Z
X-MICROSOFT-CDO-ALLDAYEVENT:FALSE
SUMMARY:Movie in the Park
DESCRIPTION:FREE Movie "Boss Baby"\, presented by the Oakville Chamber of Commerce and local merchants\, will be shown in the Oakville City Park around 8PM. Hot dogs and hamburgers will be available (donation requested to help Oakville fire victims.) Don't forget to bring your own beverage\, popcorn\, chair and blanket.
X-ALT-DESC;FMTTYPE=text/html:FREE Movie &quot\;Boss Baby&quot\;\, presented by the Oakville Chamber of Commerce and local merchants\, will be shown in the Oakville City Park around 8PM. Hot dogs and hamburgers will be available (donation requested to help Oakville fire victims.) Don&#39\;t forget to bring your own beverage\, popcorn\, chair and blanket.
LOCATION:Oakville City Park
UID:e.26.8166
SEQUENCE:3
DTSTAMP:20260425T230636Z
URL:https://chamber.graysharbor.org/events/details/movie-in-the-park-8166
END:VEVENT

END:VCALENDAR
