BEGIN:VCALENDAR
VERSION:2.0
PRODID:-//ChamberMaster//Event Calendar 2.0//EN
METHOD:PUBLISH
X-PUBLISHED-TTL:P3D
REFRESH-INTERVAL:P3D
CALSCALE:GREGORIAN
BEGIN:VEVENT
DTSTART:20190714T020000Z
DTEND:20190714T040000Z
X-MICROSOFT-CDO-ALLDAYEVENT:FALSE
SUMMARY:Movie Night during Bear Festival - Back to the Future
DESCRIPTION:To go along with McCleary Bear Festival's theme of "Blast from the Past"\, the McCleary Civic Renewal Council is bringing you Back to the Future. Bring the family for a classic movie night!
X-ALT-DESC;FMTTYPE=text/html:<span style="font-size:14px\;"><span style="caret-color: rgb(29\, 33\, 41)\; color: rgb(29\, 33\, 41)\; font-family: system-ui\, -apple-system\, BlinkMacSystemFont\, &quot\;.SFNSText-Regular&quot\;\, sans-serif\; white-space: pre-wrap\;">To go along with McCleary Bear Festival&rsquo\;s theme of &ldquo\;Blast from the Past&rdquo\;\, the McCleary Civic Renewal Council is bringing you Back to the Future. Bring the family for a classic movie night!</span></span>
LOCATION:pin McCleary VFW Hall 158 N Summit Rd.\, McCleary\, Washington 98557
UID:e.26.12109
SEQUENCE:3
DTSTAMP:20260424T104749Z
URL:https://chamber.graysharbor.org/events/details/movie-night-during-bear-festival-back-to-the-future-12109
END:VEVENT

END:VCALENDAR
