BEGIN:VCALENDAR
VERSION:2.0
PRODID:-//ChamberMaster//Event Calendar 2.0//EN
METHOD:PUBLISH
X-PUBLISHED-TTL:P3D
REFRESH-INTERVAL:P3D
CALSCALE:GREGORIAN
BEGIN:VEVENT
DTSTART:20190823T230000Z
DTEND:20190824T020000Z
X-MICROSOFT-CDO-ALLDAYEVENT:FALSE
SUMMARY:Movie Night in the Park - Guardians of the Galaxy
DESCRIPTION:4pm - 7 pm in the VFW : Pre-movie kids activity - The Pacific Science Center will be bringing over 20 interactive physics/engineering exhibits geared for all ages. Hope you can join us!\n\nSponsored by: Our Community Credit Union \n\nAt Dusk - the premier of the new McCleary town promo video followed by Guardians of the Galaxy! Come down and join us and see if you can spot yourself or friends in the video!\n\n\n\nDetails: Bring your family and friends and a quilt to sit on and enjoy our second movie night in the park. Door prize(s) will be drawn.\n\nCost: Donations accepted. Donations are used to support bringing more events and activities to town. \n\nAvailable for purchase: Concessions\, McCleary Shirts\, McCleary Stickers\, and 50/50 Raffle Tickets
X-ALT-DESC;FMTTYPE=text/html:<span style="font-size:14px\;"><span style="font-family:arial\;"><span style="text-align: left\; color: rgb(29\, 33\, 41)\; text-transform: none\; text-indent: 0px\; letter-spacing: normal\; font-style: normal\; font-variant: normal\; font-weight: 400\; text-decoration: none\; word-spacing: 0px\; display: inline !important\; white-space: pre-wrap\; orphans: 2\; float: none\; -webkit-text-stroke-width: 0px\; background-color: transparent\;">4pm - 7 pm in the VFW : Pre-movie kids activity - The Pacific Science Center will be bringing over 20 interactive physics/engineering exhibits geared for all ages. Hope you can join us!</span><br style="background-color: transparent\; color: rgb(29\, 33\, 41)\; font-family: Helvetica\,Arial\,sans-serif\; font-size: 14px\; font-style: normal\; font-variant: normal\; font-weight: 400\; letter-spacing: normal\; orphans: 2\; text-align: left\; text-decoration: none\; text-indent: 0px\; text-transform: none\; -webkit-text-stroke-width: 0px\; white-space: pre-wrap\; word-spacing: 0px\;" />\n<span style="text-align: left\; color: rgb(29\, 33\, 41)\; text-transform: none\; text-indent: 0px\; letter-spacing: normal\; font-style: normal\; font-variant: normal\; font-weight: 400\; text-decoration: none\; word-spacing: 0px\; display: inline !important\; white-space: pre-wrap\; orphans: 2\; float: none\; -webkit-text-stroke-width: 0px\; background-color: transparent\;">Sponsored by: Our Community Credit Union </span><br style="background-color: transparent\; color: rgb(29\, 33\, 41)\; font-family: Helvetica\,Arial\,sans-serif\; font-size: 14px\; font-style: normal\; font-variant: normal\; font-weight: 400\; letter-spacing: normal\; orphans: 2\; text-align: left\; text-decoration: none\; text-indent: 0px\; text-transform: none\; -webkit-text-stroke-width: 0px\; white-space: pre-wrap\; word-spacing: 0px\;" />\n<span style="text-align: left\; color: rgb(29\, 33\, 41)\; text-transform: none\; text-indent: 0px\; letter-spacing: normal\; font-style: normal\; font-variant: normal\; font-weight: 400\; text-decoration: none\; word-spacing: 0px\; display: inline !important\; white-space: pre-wrap\; orphans: 2\; float: none\; -webkit-text-stroke-width: 0px\; background-color: transparent\;">At Dusk - the premier of the new McCleary town promo video followed by Guardians of the Galaxy! Come down and join us and see if you can spot yourself or friends in the video!</span><br style="background-color: transparent\; color: rgb(29\, 33\, 41)\; font-family: Helvetica\,Arial\,sans-serif\; font-size: 14px\; font-style: normal\; font-variant: normal\; font-weight: 400\; letter-spacing: normal\; orphans: 2\; text-align: left\; text-decoration: none\; text-indent: 0px\; text-transform: none\; -webkit-text-stroke-width: 0px\; white-space: pre-wrap\; word-spacing: 0px\;" />\n<br style="background-color: transparent\; color: rgb(29\, 33\, 41)\; font-family: Helvetica\,Arial\,sans-serif\; font-size: 14px\; font-style: normal\; font-variant: normal\; font-weight: 400\; letter-spacing: normal\; orphans: 2\; text-align: left\; text-decoration: none\; text-indent: 0px\; text-transform: none\; -webkit-text-stroke-width: 0px\; white-space: pre-wrap\; word-spacing: 0px\;" />\n<span style="text-align: left\; color: rgb(29\, 33\, 41)\; text-transform: none\; text-indent: 0px\; letter-spacing: normal\; font-style: normal\; font-variant: normal\; font-weight: 400\; text-decoration: none\; word-spacing: 0px\; display: inline !important\; white-space: pre-wrap\; orphans: 2\; float: none\; -webkit-text-stroke-width: 0px\; background-color: transparent\;">Details: Bring your family and friends and a quilt to sit on and enjoy our second movie night in the park. Door prize(s) will be drawn.</span><br style="background-color: transparent\; color: rgb(29\, 33\, 41)\; font-family: Helvetica\,Arial\,sans-serif\; font-size: 14px\; font-style: normal\; font-variant: normal\; font-weight: 400\; letter-spacing: normal\; orphans: 2\; text-align: left\; text-decoration: none\; text-indent: 0px\; text-transform: none\; -webkit-text-stroke-width: 0px\; white-space: pre-wrap\; word-spacing: 0px\;" />\n<span style="text-align: left\; color: rgb(29\, 33\, 41)\; text-transform: none\; text-indent: 0px\; letter-spacing: normal\; font-style: normal\; font-variant: normal\; font-weight: 400\; text-decoration: none\; word-spacing: 0px\; display: inline !important\; white-space: pre-wrap\; orphans: 2\; float: none\; -webkit-text-stroke-width: 0px\; background-color: transparent\;">Cost: Donations accepted. Donations are used to support bringing more events and activities to town. </span><br style="background-color: transparent\; color: rgb(29\, 33\, 41)\; font-family: Helvetica\,Arial\,sans-serif\; font-size: 14px\; font-style: normal\; font-variant: normal\; font-weight: 400\; letter-spacing: normal\; orphans: 2\; text-align: left\; text-decoration: none\; text-indent: 0px\; text-transform: none\; -webkit-text-stroke-width: 0px\; white-space: pre-wrap\; word-spacing: 0px\;" />\n<span style="text-align: left\; color: rgb(29\, 33\, 41)\; text-transform: none\; text-indent: 0px\; letter-spacing: normal\; font-style: normal\; font-variant: normal\; font-weight: 400\; text-decoration: none\; word-spacing: 0px\; display: inline !important\; white-space: pre-wrap\; orphans: 2\; float: none\; -webkit-text-stroke-width: 0px\; background-color: transparent\;">Available for purchase: Concessions\, McCleary Shirts\, McCleary Stickers\, and 50/50 Raffle Tickets</span></span></span>
LOCATION:Beerbower Park McCleary\, Washington 98557
UID:e.26.12173
SEQUENCE:3
DTSTAMP:20260424T090854Z
URL:https://chamber.graysharbor.org/events/details/movie-night-in-the-park-guardians-of-the-galaxy-12173
END:VEVENT

END:VCALENDAR
