BEGIN:VCALENDAR
VERSION:2.0
PRODID:-//ChamberMaster//Event Calendar 2.0//EN
METHOD:PUBLISH
X-PUBLISHED-TTL:P3D
REFRESH-INTERVAL:P3D
CALSCALE:GREGORIAN
BEGIN:VEVENT
DTSTART:20190727T010000Z
DTEND:20190727T050000Z
X-MICROSOFT-CDO-ALLDAYEVENT:FALSE
SUMMARY:Movie Night in the Park - Planes: Fire & Rescue
DESCRIPTION:To go along with our FireWise talk earlier in the day\, come enjoy a showing of Planes: Fire & Rescue!\n\nBring your family and friends and a quilt to sit on and enjoy our second movie night in the park. Door prize(s) will be drawn.\n\nAvailable for purchase: Concessions\, McCleary Shirts\, and 50/50 Raffle Tickets.\n\n\n\nSpecial Note: Over the summer\, a McCleary town promo video will be filmed to showcase various events\, businesses\, and aspects of town. Come to the July 26th movie night and you might see yourself later in the McCleary video!!! - Premier of the video will be held at the August 23rd Movie Night!
X-ALT-DESC;FMTTYPE=text/html:<span style="caret-color: rgb(29\, 33\, 41)\; color: rgb(29\, 33\, 41)\; font-family: system-ui\, -apple-system\, BlinkMacSystemFont\, &quot\;.SFNSText-Regular&quot\;\, sans-serif\; font-size: 14px\; white-space: pre-wrap\;">To go along with our FireWise talk earlier in the day\, come enjoy a showing of Planes: Fire &amp\; Rescue!</span><br style="caret-color: rgb(29\, 33\, 41)\; color: rgb(29\, 33\, 41)\; font-family: system-ui\, -apple-system\, BlinkMacSystemFont\, &quot\;.SFNSText-Regular&quot\;\, sans-serif\; font-size: 14px\; white-space: pre-wrap\;" />\n<span style="caret-color: rgb(29\, 33\, 41)\; color: rgb(29\, 33\, 41)\; font-family: system-ui\, -apple-system\, BlinkMacSystemFont\, &quot\;.SFNSText-Regular&quot\;\, sans-serif\; font-size: 14px\; white-space: pre-wrap\;">Bring your family and friends and a quilt to sit on and enjoy our second movie night in the park. Door prize(s) will be drawn.</span><br style="caret-color: rgb(29\, 33\, 41)\; color: rgb(29\, 33\, 41)\; font-family: system-ui\, -apple-system\, BlinkMacSystemFont\, &quot\;.SFNSText-Regular&quot\;\, sans-serif\; font-size: 14px\; white-space: pre-wrap\;" />\n<span style="caret-color: rgb(29\, 33\, 41)\; color: rgb(29\, 33\, 41)\; font-family: system-ui\, -apple-system\, BlinkMacSystemFont\, &quot\;.SFNSText-Regular&quot\;\, sans-serif\; font-size: 14px\; white-space: pre-wrap\;">Available for purchase: Concessions\, McCleary Shirts\, and 50/50 Raffle Tickets.</span><br style="caret-color: rgb(29\, 33\, 41)\; color: rgb(29\, 33\, 41)\; font-family: system-ui\, -apple-system\, BlinkMacSystemFont\, &quot\;.SFNSText-Regular&quot\;\, sans-serif\; font-size: 14px\; white-space: pre-wrap\;" />\n<br style="caret-color: rgb(29\, 33\, 41)\; color: rgb(29\, 33\, 41)\; font-family: system-ui\, -apple-system\, BlinkMacSystemFont\, &quot\;.SFNSText-Regular&quot\;\, sans-serif\; font-size: 14px\; white-space: pre-wrap\;" />\n<span style="caret-color: rgb(29\, 33\, 41)\; color: rgb(29\, 33\, 41)\; font-family: system-ui\, -apple-system\, BlinkMacSystemFont\, &quot\;.SFNSText-Regular&quot\;\, sans-serif\; font-size: 14px\; white-space: pre-wrap\;">Special Note: Over the summer\, a McCleary town promo video will be filmed to showcase various events\, businesses\, and aspects of town. Come to the July 26th movie night and you might see yourself later in the McCleary video!!! - Premier of the video will be held at the August 23rd Movie Night! </span>
LOCATION:pin Beerbower Park McCleary\, Washington 98557
UID:e.26.12107
SEQUENCE:3
DTSTAMP:20260424T104622Z
URL:https://chamber.graysharbor.org/events/details/movie-night-in-the-park-planes-fire-rescue-12107
END:VEVENT

END:VCALENDAR
