BEGIN:VCALENDAR
VERSION:2.0
PRODID:-//ChamberMaster//Event Calendar 2.0//EN
METHOD:PUBLISH
X-PUBLISHED-TTL:P3D
REFRESH-INTERVAL:P3D
CALSCALE:GREGORIAN
BEGIN:VEVENT
DTSTART:20171022T023000Z
DTEND:20171022T050000Z
X-MICROSOFT-CDO-ALLDAYEVENT:FALSE
SUMMARY:Mowgli– The Jungle Book Ballet / Bishop Center
DESCRIPTION:The Eugene Ballet Company returns to the Bishop Center to present "Mowgli   The Jungle Book Ballet." Enjoy the spirited adventures of Mowgli as he befriends Baloo the Bear\, and battles larger-than-life Shere Khan the Tiger and Kara the Snake. All ages will enjoy this exotic retelling of Rudyard Kipling's stories\, with fanciful costumes\, masks\, magical sets and world music creating life in the jungle. Buy your tickets TODAY before they sell out and join us to catch this fun show! Tickets are now available at ghc.edu/bishop.
X-ALT-DESC;FMTTYPE=text/html:The Eugene Ballet Company returns to the Bishop Center to present &ldquo\;Mowgli &ndash\; The Jungle Book Ballet.&rdquo\; Enjoy the spirited adventures of Mowgli as he befriends Baloo the Bear\, and battles larger-than-life Shere Khan the Tiger and Kara the Snake. All ages will enjoy this exotic retelling of Rudyard Kipling&rsquo\;s stories\, with fanciful costumes\, masks\, magical sets and world music creating life in the jungle. Buy your tickets TODAY before they sell out and join us to catch this fun show! Tickets are now available at ghc.edu/bishop.
LOCATION:Grays Harbor College Bishop Center for Performing Arts 1620 Edward P. Smith Drive Aberdeen WA 98520
UID:e.26.8254
SEQUENCE:3
DTSTAMP:20260425T201414Z
URL:https://chamber.graysharbor.org/events/details/mowgli-the-jungle-book-ballet-bishop-center-8254
END:VEVENT

END:VCALENDAR
