BEGIN:VCALENDAR
VERSION:2.0
PRODID:-//ChamberMaster//Event Calendar 2.0//EN
METHOD:PUBLISH
X-PUBLISHED-TTL:P3D
REFRESH-INTERVAL:P3D
CALSCALE:GREGORIAN
BEGIN:VEVENT
DTSTART:20190430T190000Z
DTEND:20190430T200000Z
X-MICROSOFT-CDO-ALLDAYEVENT:FALSE
SUMMARY:Mug Shot Food Truck Ribbon Cutting
DESCRIPTION:GGHI will be partnering with the Elma Chamber of Commerce to perform a ribbon cutting will be for Mug Shot\, the new food truck up at the Satsop Business Park!\n\nIt will be at noon (lunchtime!) on April 30th and is located right near the intersection of Tower Boulevard and Olympic View Drive in Satsop. We hope to see you there!
X-ALT-DESC;FMTTYPE=text/html:<span style="caret-color: rgb(34\, 34\, 34)\; color: rgb(34\, 34\, 34)\; font-family: Arial\, Helvetica\, sans-serif\; font-size: small\;">GGHI will be partnering with the Elma Chamber of Commerce to perform a ribbon cutting will be for Mug Shot\, the new food truck up at the Satsop Business Park!<br />\nIt will be at noon (lunchtime!) on April 30</span><sup style="caret-color: rgb(34\, 34\, 34)\; color: rgb(34\, 34\, 34)\; font-family: Arial\, Helvetica\, sans-serif\;">th</sup><span style="caret-color: rgb(34\, 34\, 34)\; color: rgb(34\, 34\, 34)\; font-family: Arial\, Helvetica\, sans-serif\; font-size: small\;">&nbsp\;and is located right near the intersection of Tower Boulevard and Olympic View Drive in Satsop. We hope to see you there!&nbsp\;</span>
LOCATION:Mug Shot Food Truck - Intersection of Tower Boulevard and Olympic View Dr. Satsop\, WA
UID:e.26.11961
SEQUENCE:3
DTSTAMP:20260424T151611Z
URL:https://chamber.graysharbor.org/events/details/mug-shot-food-truck-ribbon-cutting-11961
END:VEVENT

END:VCALENDAR
