BEGIN:VCALENDAR
VERSION:2.0
PRODID:-//ChamberMaster//Event Calendar 2.0//EN
METHOD:PUBLISH
X-PUBLISHED-TTL:P3D
REFRESH-INTERVAL:P3D
CALSCALE:GREGORIAN
BEGIN:VEVENT
DTSTART:20170805T000000Z
DTEND:20170805T040000Z
X-MICROSOFT-CDO-ALLDAYEVENT:FALSE
SUMMARY:Music Evening
DESCRIPTION:Alena and Chris 5:00 - 6:00\n\nEdward Stanaway 6:00-7:00\n\nMike Kachman 7:00-8:00\n\nPrivatized Air 8:00-9:00\n\n\n\nCome enjoy an evening of music and coffee with friends!\n\n\n\nFacebook Page: https://www.facebook.com/events/118623992101138/?acontext=%7B%22ref%22%3A%222%22%2C%22ref_dashboard_filter%22%3A%22explore%22%2C%22unit_ref%22%3A%22suggested_events%22%2C%22action_history%22%3A%22null%22%7D
X-ALT-DESC;FMTTYPE=text/html:<span style="color: rgb(75\, 79\, 86)\; font-family: Helvetica\, Arial\, sans-serif\; font-size: 14px\; background-color: rgb(255\, 255\, 255)\;">Alena and Chris 5:00 - 6:00</span><br style="color: rgb(75\, 79\, 86)\; font-family: Helvetica\, Arial\, sans-serif\; font-size: 14px\; background-color: rgb(255\, 255\, 255)\;" />\n<span style="color: rgb(75\, 79\, 86)\; font-family: Helvetica\, Arial\, sans-serif\; font-size: 14px\; background-color: rgb(255\, 255\, 255)\;">Edward Stanaway 6:00-7:00</span><br style="color: rgb(75\, 79\, 86)\; font-family: Helvetica\, Arial\, sans-serif\; font-size: 14px\; background-color: rgb(255\, 255\, 255)\;" />\n<span style="color: rgb(75\, 79\, 86)\; font-family: Helvetica\, Arial\, sans-serif\; font-size: 14px\; background-color: rgb(255\, 255\, 255)\;">Mike Kachman 7:00-8:00</span><br style="color: rgb(75\, 79\, 86)\; font-family: Helvetica\, Arial\, sans-serif\; font-size: 14px\; background-color: rgb(255\, 255\, 255)\;" />\n<span style="color: rgb(75\, 79\, 86)\; font-family: Helvetica\, Arial\, sans-serif\; font-size: 14px\; background-color: rgb(255\, 255\, 255)\;">Privatized Air 8:00-9:00</span><br style="color: rgb(75\, 79\, 86)\; font-family: Helvetica\, Arial\, sans-serif\; font-size: 14px\; background-color: rgb(255\, 255\, 255)\;" />\n<br style="color: rgb(75\, 79\, 86)\; font-family: Helvetica\, Arial\, sans-serif\; font-size: 14px\; background-color: rgb(255\, 255\, 255)\;" />\n<span style="color: rgb(75\, 79\, 86)\; font-family: Helvetica\, Arial\, sans-serif\; font-size: 14px\; background-color: rgb(255\, 255\, 255)\;">Come enjoy an evening of music and coffee with friends!</span><br />\n<br />\nFacebook Page:&nbsp\;https://www.facebook.com/events/118623992101138/?acontext=%7B%22ref%22%3A%222%22%2C%22ref_dashboard_filter%22%3A%22explore%22%2C%22unit_ref%22%3A%22suggested_events%22%2C%22action_history%22%3A%22null%22%7D
LOCATION:Tinderbox Roasters Aberdeen\, WA
UID:e.26.8064
SEQUENCE:3
DTSTAMP:20260426T002856Z
URL:https://chamber.graysharbor.org/events/details/music-evening-8064
END:VEVENT

END:VCALENDAR
