BEGIN:VCALENDAR
VERSION:2.0
PRODID:-//ChamberMaster//Event Calendar 2.0//EN
METHOD:PUBLISH
X-PUBLISHED-TTL:P3D
REFRESH-INTERVAL:P3D
CALSCALE:GREGORIAN
BEGIN:VEVENT
DTSTART:20180121T030000Z
DTEND:20180121T053000Z
X-MICROSOFT-CDO-ALLDAYEVENT:FALSE
SUMMARY:Musicale 2018 - Scholarship Benefit Concert
DESCRIPTION:Grays Harbor Music Teachers Association is pleased to present Musicale 2018 - Scholarship Benefit Concert at 7 pm\, Saturday\, January 20th at Aberdeen First Presbyterian Church\, at the corner of 4th and Broadway. Performers include Micah Hollen\, pianist and 2017 scholarship recipient as well as Daniel Walker\, acoustic guitarist\, Debra Akerlund and Karen Meikle\, violinists\, accompanied on piano by Merry Jo Zimmer\, and The Dukes of Swing\, directed by David McCrary! A gourmet dessert reception by O'Brien's Catering will follow the concert. Admission is FREE and the public is cordially invited to attend! A free will offering will be collected at intermission to fund scholarships for music students from Grays Harbor and Pacific Counties who are majoring or minoring in music at any college.
X-ALT-DESC;FMTTYPE=text/html:<span style="color: rgb(75\, 79\, 86)\; font-family: Helvetica\, Arial\, sans-serif\; font-size: 14px\; background-color: rgb(255\, 255\, 255)\;">Grays Harbor Music Teachers Association is pleased to present Musicale 2018 - Scholarship Benefit Concert at 7 pm\, Saturday\, January 20th at Aberdeen First Presbyterian Church\, at the corner of 4th and Broadway. Performers include Micah Hollen\, pianist and 2017 scholarship recipient as well as Daniel Walker\, acoustic guitarist\, Debra Akerlund and Karen Meikle\, violinists\, accompanied on piano by Merry Jo Zimmer\, and The Dukes of Swing\, directed by David McCrary! A gourmet dessert reception by O&#39\;Brien&#39\;s Catering will follow the concert. Admission is FREE and the public is cordially invited to attend! A free will offering will be collected at intermission to fund scholarships for music students from Grays Harbor and Pacific Counties who are majoring or minoring in music at any college.</span>
LOCATION:First Presbyterian Church of Aberdeen 420 N Broadway St. Aberdeen\, WA
UID:e.26.9429
SEQUENCE:3
DTSTAMP:20260425T145856Z
URL:https://chamber.graysharbor.org/events/details/musicale-2018-scholarship-benefit-concert-9429
END:VEVENT

END:VCALENDAR
