BEGIN:VCALENDAR
VERSION:2.0
PRODID:-//ChamberMaster//Event Calendar 2.0//EN
METHOD:PUBLISH
X-PUBLISHED-TTL:P3D
REFRESH-INTERVAL:P3D
CALSCALE:GREGORIAN
BEGIN:VEVENT
DTSTART:20200119T030000Z
DTEND:20200119T050000Z
X-MICROSOFT-CDO-ALLDAYEVENT:FALSE
SUMMARY:Musicale Scholarship Benefit Concert
DESCRIPTION:Grays Harbor Music Teachers Association presents their annual Musicale scholarship benefit concert at 7 pm on Saturday\, January 18\, 2020 at Aberdeen First Presbyterian Church\, 4th and Broadway in Aberdeen. Performing at this year's Musicale are local musicians: Grays Harbor College Opera Workshop\, directed by Ian and Joy Dorsch\, Grays Harbor Brass\, organized by Dr. William Dyer\, pianist/vocalist/songwriter Amanda Ransom - 2019 scholarship recipient\, pianist Micah Hollen - former multiple scholarship recipient\, and a string/piano/snare drum ensemble featuring Debra Akerlund\, Leslie and John O'Brien\, Merry Jo Zimmer and Robert Neisinger.\n\nAdmission is free and the public is cordially invited to attend. A free will offering will be accepted at intermission to go toward music scholarships. A gourmet dessert reception will follow the concert.
X-ALT-DESC;FMTTYPE=text/html:<span style="font-size:14px\;">Grays Harbor Music Teachers Association presents their annual Musicale scholarship benefit concert at 7 pm on Saturday\, January 18\, 2020 at Aberdeen First Presbyterian Church\, 4th and Broadway in Aberdeen. Performing at this year&#39\;s Musicale are local musicians: Grays Harbor College Opera Workshop\, directed by Ian and Joy Dorsch\, Grays Harbor Brass\, organized by Dr. William Dyer\, pianist/vocalist/songwriter Amanda Ransom - 2019 scholarship recipient\, pianist Micah Hollen - former multiple scholarship recipient\, and a string/piano/snare drum ensemble featuring Debra Akerlund\, Leslie and John O&#39\;Brien\, Merry Jo Zimmer and Robert Neisinger.<br />\nAdmission is free and the public is cordially invited to attend. A free will offering will be accepted at intermission to go toward music scholarships. A gourmet dessert reception will follow the concert.</span>
LOCATION:Aberdeen First Presbyterian Church 4th and Broadway
UID:e.26.12342
SEQUENCE:3
DTSTAMP:20260424T042105Z
URL:https://chamber.graysharbor.org/events/details/musicale-scholarship-benefit-concert-12342
END:VEVENT

END:VCALENDAR
