BEGIN:VCALENDAR
VERSION:2.0
PRODID:-//ChamberMaster//Event Calendar 2.0//EN
METHOD:PUBLISH
X-PUBLISHED-TTL:P3D
REFRESH-INTERVAL:P3D
CALSCALE:GREGORIAN
BEGIN:VEVENT
DTSTART:20170508T023000Z
DTEND:20170508T040000Z
X-MICROSOFT-CDO-ALLDAYEVENT:FALSE
SUMMARY:My Fair Lady (1964) 7th St. Theatre
DESCRIPTION:Pompous phonetics professor Henry Higgins is so sure of his abilities that he takes it upon himself to transform a Cockney working-class girl into someone who can pass for a cultured member of high society. His subject turns out to be the lovely Eliza Doolittle\, who agrees to speech lessons to improve her job prospects. Higgins and Eliza clash\, then form an unlikely bond   one that is threatened by an aristocratic suitor.\n\n\n\nStarring Audrey Hepburn\, Rex Harrison\, and Stanley Holloway.\n\n\n\nLocally sponsored by Coleman Mortuary Inc\, Wunderland Childcare\, Rick Anderson\, Ray Kahler & Callie White\, Twibell's Fern Hill Funeral Home\, Valentine Law Office PC\, Hoquiam Senior Center Board\, KD&S Environmental Inc\, Jodesha Broadcasting\, and Alpha Media Grays Harbor.
X-ALT-DESC;FMTTYPE=text/html:Pompous phonetics professor Henry Higgins is so sure of his abilities that he takes it upon himself to transform a Cockney working-class girl into someone who can pass for a cultured member of high society. His subject turns out to be the lovely Eliza Doolittle\, who agrees to speech lessons to improve her job prospects. Higgins and Eliza clash\, then form an unlikely bond &mdash\; one that is threatened by an aristocratic suitor.<br />\n<br />\nStarring Audrey Hepburn\, Rex Harrison\, and Stanley Holloway.<br />\n<br />\nLocally sponsored by Coleman Mortuary Inc\, Wunderland Childcare\, Rick Anderson\, Ray Kahler &amp\; Callie White\, Twibell&rsquo\;s Fern Hill Funeral Home\, Valentine Law Office PC\, Hoquiam Senior Center Board\, KD&amp\;S Environmental Inc\, Jodesha Broadcasting\, and Alpha Media Grays Harbor.
LOCATION:7th Street Theatre 313 7th Street Hoquiam\, WA
UID:e.26.7684
SEQUENCE:3
DTSTAMP:20260426T033103Z
URL:https://chamber.graysharbor.org/events/details/my-fair-lady-1964-7th-st-theatre-7684
END:VEVENT

END:VCALENDAR
