BEGIN:VCALENDAR
VERSION:2.0
PRODID:-//ChamberMaster//Event Calendar 2.0//EN
METHOD:PUBLISH
X-PUBLISHED-TTL:P3D
REFRESH-INTERVAL:P3D
CALSCALE:GREGORIAN
BEGIN:VEVENT
DTSTART:20171105T003000Z
DTEND:20171105T020000Z
X-MICROSOFT-CDO-ALLDAYEVENT:FALSE
SUMMARY:Nacho/Potato Bar and Dollar Auction Fundraiser!
DESCRIPTION:Please come out and support this group of students from the Aberdeen School District who are going on an educational trip to Washington DC and New York the end of June 2018. \n\n\n\nJoin us for a nacho/baked potato bar dinner and Dollar Auction fundraiser. Dinner will consist of your choice of baked potato or nachos both come with all the fixings! Tickets are $5 each. There will be soda and water available for purchase and across the hall there is a no host bar for those 21+. Bring your dollar bills for the live dollar auction. For those not familiar with a dollar auction it's also known as a Chinese auction. Every dollar enters you a chance to win the item you want!
X-ALT-DESC;FMTTYPE=text/html:<span style="color: rgb(75\, 79\, 86)\; font-family: Helvetica\, Arial\, sans-serif\; font-size: 14px\; background-color: rgb(255\, 255\, 255)\;">Please come out and support this group of students from the Aberdeen School District who are going on an educational trip to Washington DC and New York the end of June 2018.&nbsp\;</span><br style="color: rgb(75\, 79\, 86)\; font-family: Helvetica\, Arial\, sans-serif\; font-size: 14px\; background-color: rgb(255\, 255\, 255)\;" />\n<br style="color: rgb(75\, 79\, 86)\; font-family: Helvetica\, Arial\, sans-serif\; font-size: 14px\; background-color: rgb(255\, 255\, 255)\;" />\n<span style="color: rgb(75\, 79\, 86)\; font-family: Helvetica\, Arial\, sans-serif\; font-size: 14px\; background-color: rgb(255\, 255\, 255)\;">Join us for a nacho/baked potato bar dinner and Dollar Auction fundraiser. Dinner will consist of your choice of baked potato or nachos both come with all the fixings! Tickets are $5 each. There will be soda and water available for purchase and across the hall there is a no host bar for those 21+. Bring your dollar bills for the live dollar auction. For those not familiar with a dollar auction it&#39\;s also known as a Chinese auction. Every dollar enters you a chance to win the item you want!</span>
LOCATION:Aberdeen Eagles 208 W Market
UID:e.26.8283
SEQUENCE:3
DTSTAMP:20260425T181450Z
URL:https://chamber.graysharbor.org/events/details/nacho-potato-bar-and-dollar-auction-fundraiser-8283
END:VEVENT

END:VCALENDAR
