BEGIN:VCALENDAR
VERSION:2.0
PRODID:-//ChamberMaster//Event Calendar 2.0//EN
METHOD:PUBLISH
X-PUBLISHED-TTL:P3D
REFRESH-INTERVAL:P3D
CALSCALE:GREGORIAN
BEGIN:VEVENT
DTSTART:20190308T193000Z
DTEND:20190308T203000Z
X-MICROSOFT-CDO-ALLDAYEVENT:FALSE
SUMMARY:Narn's Rice and Noodle Ribbon Cutting
DESCRIPTION:The Greater Grays Harbor Ambassador Team will be at Narn's Rice and Noodle to help celebrate their grand opening with ribbon cutting event! \n\nThe ribbon cutting will take place on Friday\, March 8th at 11:30am. This new Cambodian/Chinese restaurant is located at 710 Simpson Ave. in Hoquiam. We hope you can make it out to welcome them with open arms and hungry stomachs!
X-ALT-DESC;FMTTYPE=text/html:<span style="caret-color: rgb(29\, 33\, 41)\; color: rgb(29\, 33\, 41)\; font-family: system-ui\, -apple-system\, BlinkMacSystemFont\, &quot\;.SFNSText-Regular&quot\;\, sans-serif\; font-size: 14px\; white-space: pre-wrap\;">The Greater Grays Harbor Ambassador Team will be at Narn&rsquo\;s Rice and Noodle to help celebrate their grand opening with ribbon cutting event! </span><br style="caret-color: rgb(29\, 33\, 41)\; color: rgb(29\, 33\, 41)\; font-family: system-ui\, -apple-system\, BlinkMacSystemFont\, &quot\;.SFNSText-Regular&quot\;\, sans-serif\; font-size: 14px\; white-space: pre-wrap\;" />\n<span style="caret-color: rgb(29\, 33\, 41)\; color: rgb(29\, 33\, 41)\; font-family: system-ui\, -apple-system\, BlinkMacSystemFont\, &quot\;.SFNSText-Regular&quot\;\, sans-serif\; font-size: 14px\; white-space: pre-wrap\;">The ribbon cutting will take place on Friday\, March 8th at 11:30am. This new Cambodian/Chinese restaurant is located at 710 Simpson Ave. in Hoquiam. We hope you can make it out to welcome them with open arms and hungry stomachs! </span>
LOCATION:pin Narn's Rice and Noodle 710 Simpson Avenue\, Hoquiam\, Washington 98550
UID:e.26.11785
SEQUENCE:3
DTSTAMP:20260424T163640Z
URL:https://chamber.graysharbor.org/events/details/narn-s-rice-and-noodle-ribbon-cutting-11785
END:VEVENT

END:VCALENDAR
