BEGIN:VCALENDAR
VERSION:2.0
PRODID:-//ChamberMaster//Event Calendar 2.0//EN
METHOD:PUBLISH
X-PUBLISHED-TTL:P3D
REFRESH-INTERVAL:P3D
CALSCALE:GREGORIAN
BEGIN:VEVENT
DTSTART:20181202T033000Z
DTEND:20181202T050000Z
X-MICROSOFT-CDO-ALLDAYEVENT:FALSE
SUMMARY:National Lampoon's Christmas Vacation (1989)
DESCRIPTION:Presented in partnership with the Hoquiam Business Association for Ho Ho Hoquiam\n\nTickets are $6\n\nTickets are available at online\, Harbor Drug\, City Drug\, Crown Drug and a half hour before the show.\n\n\n\nIt's Christmas time and the Griswolds are preparing for a family seasonal celebration\, but things never run smoothly for Clark\, his wife Ellen and their two kids. Clark's continual bad luck is worsened by his obnoxious family guests\, but he manages to keep going knowing that his Christmas bonus is due soon.\n\n\n\nStarring Chevy Chase\, Beverly D'Angelo\, and Johnny Galecki.\n\n\n\nLocally sponsored by Brian & Amber Carlson\, Coleman Mortuary\, Jeff Cook & Becky Walsh\, Stephanie Conway\, Dennis Company\, Durney Insurance\, Grays Harbor College\, Great Northwest Federal Credit Union\, Harbor Drug & Gifts\, Harrison Family Mortuary\, Rich Hartman's Five Star Dealerships\, Oceana Spa\, OrgSupport LLC\, The Pasha Group\, R&T Davis Foundation\, Mark Rossetti   State Farm Insurance\, Steam Donkey Brewing Company\, Westhaven Villa\, Wunderland Childcare Centers\, Alpha Media Grays Harbor and Jodesha Broadcasting.
X-ALT-DESC;FMTTYPE=text/html:<span style="caret-color: rgb(29\, 33\, 41)\; color: rgb(29\, 33\, 41)\; font-family: system-ui\, -apple-system\, BlinkMacSystemFont\, &quot\;.SFNSText-Regular&quot\;\, sans-serif\; font-size: 14px\; background-color: rgb(255\, 255\, 255)\;">Presented in partnership with the Hoquiam Business Association for Ho Ho Hoquiam</span><br style="caret-color: rgb(29\, 33\, 41)\; color: rgb(29\, 33\, 41)\; font-family: system-ui\, -apple-system\, BlinkMacSystemFont\, &quot\;.SFNSText-Regular&quot\;\, sans-serif\; font-size: 14px\;" />\n<span style="caret-color: rgb(29\, 33\, 41)\; color: rgb(29\, 33\, 41)\; font-family: system-ui\, -apple-system\, BlinkMacSystemFont\, &quot\;.SFNSText-Regular&quot\;\, sans-serif\; font-size: 14px\; background-color: rgb(255\, 255\, 255)\;">Tickets are $6</span><br style="caret-color: rgb(29\, 33\, 41)\; color: rgb(29\, 33\, 41)\; font-family: system-ui\, -apple-system\, BlinkMacSystemFont\, &quot\;.SFNSText-Regular&quot\;\, sans-serif\; font-size: 14px\;" />\n<span style="caret-color: rgb(29\, 33\, 41)\; color: rgb(29\, 33\, 41)\; font-family: system-ui\, -apple-system\, BlinkMacSystemFont\, &quot\;.SFNSText-Regular&quot\;\, sans-serif\; font-size: 14px\; background-color: rgb(255\, 255\, 255)\;">Tickets are available at online\, Harbor Drug\, City Drug\, Crown Drug and a half hour before the show.</span><br style="caret-color: rgb(29\, 33\, 41)\; color: rgb(29\, 33\, 41)\; font-family: system-ui\, -apple-system\, BlinkMacSystemFont\, &quot\;.SFNSText-Regular&quot\;\, sans-serif\; font-size: 14px\;" />\n<br style="caret-color: rgb(29\, 33\, 41)\; color: rgb(29\, 33\, 41)\; font-family: system-ui\, -apple-system\, BlinkMacSystemFont\, &quot\;.SFNSText-Regular&quot\;\, sans-serif\; font-size: 14px\;" />\n<span style="caret-color: rgb(29\, 33\, 41)\; color: rgb(29\, 33\, 41)\; font-family: system-ui\, -apple-system\, BlinkMacSystemFont\, &quot\;.SFNSText-Regular&quot\;\, sans-serif\; font-size: 14px\; background-color: rgb(255\, 255\, 255)\;">It&rsquo\;s Christmas time and the Griswolds are preparing for a family seasonal celebration\, but things never run smoothly for Clark\, his wife Ellen and their two kids. Clark&rsquo\;s continual bad luck is worsened by his obnoxious family guests\, but he manages to keep going knowing that his Christmas bonus is due soon.</span><br style="caret-color: rgb(29\, 33\, 41)\; color: rgb(29\, 33\, 41)\; font-family: system-ui\, -apple-system\, BlinkMacSystemFont\, &quot\;.SFNSText-Regular&quot\;\, sans-serif\; font-size: 14px\;" />\n<br style="caret-color: rgb(29\, 33\, 41)\; color: rgb(29\, 33\, 41)\; font-family: system-ui\, -apple-system\, BlinkMacSystemFont\, &quot\;.SFNSText-Regular&quot\;\, sans-serif\; font-size: 14px\;" />\n<span style="caret-color: rgb(29\, 33\, 41)\; color: rgb(29\, 33\, 41)\; font-family: system-ui\, -apple-system\, BlinkMacSystemFont\, &quot\;.SFNSText-Regular&quot\;\, sans-serif\; font-size: 14px\; background-color: rgb(255\, 255\, 255)\;">Starring Chevy Chase\, Beverly D&rsquo\;Angelo\, and Johnny Galecki.</span><br style="caret-color: rgb(29\, 33\, 41)\; color: rgb(29\, 33\, 41)\; font-family: system-ui\, -apple-system\, BlinkMacSystemFont\, &quot\;.SFNSText-Regular&quot\;\, sans-serif\; font-size: 14px\;" />\n<br style="caret-color: rgb(29\, 33\, 41)\; color: rgb(29\, 33\, 41)\; font-family: system-ui\, -apple-system\, BlinkMacSystemFont\, &quot\;.SFNSText-Regular&quot\;\, sans-serif\; font-size: 14px\;" />\n<span style="caret-color: rgb(29\, 33\, 41)\; color: rgb(29\, 33\, 41)\; font-family: system-ui\, -apple-system\, BlinkMacSystemFont\, &quot\;.SFNSText-Regular&quot\;\, sans-serif\; font-size: 14px\; background-color: rgb(255\, 255\, 255)\;">Locally sponsored by Brian &amp\; Amber Carlson\, Coleman Mortuary\, Jeff Cook &amp\; Becky Walsh\, Stephanie Conway\, Dennis Company\, Durney Insurance\, Grays Harbor College\, Great Northwest Federal Credit Union\, Harbor Drug &amp\; Gifts\, Harrison Family Mortuary\, Rich Hartman&rsquo\;s Five Star Dealerships\, Oceana Spa\, OrgSupport LLC\, The Pasha Group\, R&amp\;T Davis Foundation\, Mark Rossetti &ndash\; State Farm Insurance\, Steam Donkey Brewing Company\, Westhaven Villa\, Wunderland Childcare Centers\, Alpha Media Grays Harbor and Jodesha Broadcasting.</span>
LOCATION:7th St. Theatre Hoquiam
UID:e.26.11353
SEQUENCE:3
DTSTAMP:20260424T210850Z
URL:https://chamber.graysharbor.org/events/details/national-lampoon-s-christmas-vacation-1989-11353
END:VEVENT

END:VCALENDAR
