BEGIN:VCALENDAR
VERSION:2.0
PRODID:-//ChamberMaster//Event Calendar 2.0//EN
METHOD:PUBLISH
X-PUBLISHED-TTL:P3D
REFRESH-INTERVAL:P3D
CALSCALE:GREGORIAN
BEGIN:VEVENT
DTSTART;VALUE=DATE:20190806
DTEND;VALUE=DATE:20190807
TRANSP:TRANSPARENT
X-MICROSOFT-CDO-ALLDAYEVENT:TRUE
SUMMARY:National Night Out
DESCRIPTION:On the first Tuesday in August the Montesano Police Department joins forces with the community to make our city safer. From the Night out in the Park to block parties\, the Montesano Police Department will stop by and be there for any group that would like ask questions or receive information on how to make their neighborhoods safer. If you would like to sign up for this years National Night Out Block Party contact the Montesano Police Department at 249-1031.
X-ALT-DESC;FMTTYPE=text/html:<span style="caret-color: rgb(29\, 33\, 41)\; color: rgb(29\, 33\, 41)\; font-family: system-ui\, -apple-system\, BlinkMacSystemFont\, &quot\;.SFNSText-Regular&quot\;\, sans-serif\; font-size: 14px\; white-space: pre-wrap\;">On the first Tuesday in August the Montesano Police Department joins forces with the community to make our city safer. From the Night out in the Park to block parties\, the Montesano Police Department will stop by and be there for any group that would like ask questions or receive information on how to make their neighborhoods safer. If you would like to sign up for this years National Night Out Block Party contact the Montesano Police Department at 249-1031. </span>
LOCATION:pin Montesano Police Department 112 North Main Street\, Montesano\, Washington 98563
UID:e.26.11993
SEQUENCE:3
DTSTAMP:20260424T090101Z
URL:https://chamber.graysharbor.org/events/details/national-night-out-11993
END:VEVENT

END:VCALENDAR
