BEGIN:VCALENDAR
VERSION:2.0
PRODID:-//ChamberMaster//Event Calendar 2.0//EN
METHOD:PUBLISH
X-PUBLISHED-TTL:P3D
REFRESH-INTERVAL:P3D
CALSCALE:GREGORIAN
BEGIN:VEVENT
DTSTART:20170513T200000Z
DTEND:20170513T220000Z
X-MICROSOFT-CDO-ALLDAYEVENT:FALSE
SUMMARY:Naturalist Photography Walking Workshop
DESCRIPTION:Join local photographer Alan Hepworth on a guided walking photography class.\n\nHe will share techniques and tips on outdoor phototography. Bring your camera\,tripods and macro lenses if you have them.\n\nDress for a walking adventure!
X-ALT-DESC;FMTTYPE=text/html:<span class="_4n-j _3cht fsl" data-testid="event-permalink-details">Join local photographer <a data-hovercard="/ajax/hovercard/user.php?id=1612832037&amp\;extragetparams=%7B%22directed_target_id%22%3A118610935356615%7D" data-hovercard-prefer-more-content-show="1" href="https://www.facebook.com/alanrhepworth"><font color="#0066cc">Alan Hepworth</font></a> on a guided walking photography class.<br />\nHe will share techniques and tips on outdoor phototography. Bring your camera\,tripods and macro lenses if you have them.<br />\nDress for a walking adventure! </span>
LOCATION:Meet in front of the Oyhut Bay Bistro a bit before 1:00 and join in this informative fun workshop.
UID:e.26.7677
SEQUENCE:3
DTSTAMP:20260426T032903Z
URL:https://chamber.graysharbor.org/events/details/naturalist-photography-walking-workshop-7677
END:VEVENT

END:VCALENDAR
