BEGIN:VCALENDAR
VERSION:2.0
PRODID:-//ChamberMaster//Event Calendar 2.0//EN
METHOD:PUBLISH
X-PUBLISHED-TTL:P3D
REFRESH-INTERVAL:P3D
CALSCALE:GREGORIAN
BEGIN:VEVENT
DTSTART:20170909T170000Z
DTEND:20170909T190000Z
X-MICROSOFT-CDO-ALLDAYEVENT:FALSE
SUMMARY:Naturalist Photography Walking Workshop
DESCRIPTION:Naturalist Photography Walking Workshop Sept.9th 10 am\n\n Join local photographer Alan Hepworth on a guided walking photography class.\n\nHe will share techniques and tips on outdoor photography. Bring your camera\,tripods and macro lenses if you have them.\n\nDress for a walking adventure! \n\n$20.00 per participant \n\nMeet at Riptide Coffee Co. a bit before 10:00 and join in this informative fun workshop.
X-ALT-DESC;FMTTYPE=text/html:<h1 class="_5gmx" data-testid="event-permalink-event-name" id="seo_h1_tag" style="color: rgb(29\, 33\, 41)\; font-size: 20px\; margin: 0px 12px 0px 0px\; padding: 0px\; font-weight: normal\; line-height: 28px\; font-family: Helvetica\, Arial\, sans-serif\; background-color: rgb(255\, 255\, 255)\;">Naturalist Photography Walking Workshop Sept.9th 10 am<br />\n&#8203\;<span style="color: rgb(75\, 79\, 86)\; font-family: Helvetica\, Arial\, sans-serif\; font-size: 14px\; background-color: rgb(255\, 255\, 255)\;">Join</span><span style="color: rgb(75\, 79\, 86)\; font-family: Helvetica\, Arial\, sans-serif\; font-size: 14px\; background-color: rgb(255\, 255\, 255)\;"> local photographer&nbsp\;</span><a data-hovercard="/ajax/hovercard/user.php?id=1612832037&amp\;extragetparams=%7B%22directed_target_id%22%3A1886294918365630%7D" data-hovercard-prefer-more-content-show="1" href="https://www.facebook.com/alanrhepworth" style="color: rgb(54\, 88\, 153)\; cursor: pointer\; text-decoration-line: none\; font-family: Helvetica\, Arial\, sans-serif\; font-size: 14px\; background-color: rgb(255\, 255\, 255)\;">Alan Hepworth</a><span style="color: rgb(75\, 79\, 86)\; font-family: Helvetica\, Arial\, sans-serif\; font-size: 14px\; background-color: rgb(255\, 255\, 255)\;">&nbsp\;on a guided walking photography class.</span><br style="color: rgb(75\, 79\, 86)\; font-family: Helvetica\, Arial\, sans-serif\; font-size: 14px\; background-color: rgb(255\, 255\, 255)\;" />\n<span style="color: rgb(75\, 79\, 86)\; font-family: Helvetica\, Arial\, sans-serif\; font-size: 14px\; background-color: rgb(255\, 255\, 255)\;">He will share techniques and tips on outdoor photography. Bring your camera\,tripods and macro lenses if you have them.</span><br style="color: rgb(75\, 79\, 86)\; font-family: Helvetica\, Arial\, sans-serif\; font-size: 14px\; background-color: rgb(255\, 255\, 255)\;" />\n<span style="color: rgb(75\, 79\, 86)\; font-family: Helvetica\, Arial\, sans-serif\; font-size: 14px\; background-color: rgb(255\, 255\, 255)\;">Dress for a walking adventure!&nbsp\;</span><br style="color: rgb(75\, 79\, 86)\; font-family: Helvetica\, Arial\, sans-serif\; font-size: 14px\; background-color: rgb(255\, 255\, 255)\;" />\n<span style="color: rgb(75\, 79\, 86)\; font-family: Helvetica\, Arial\, sans-serif\; font-size: 14px\; background-color: rgb(255\, 255\, 255)\;">$20.00 per participant&nbsp\;</span><br style="color: rgb(75\, 79\, 86)\; font-family: Helvetica\, Arial\, sans-serif\; font-size: 14px\; background-color: rgb(255\, 255\, 255)\;" />\n<span style="color: rgb(75\, 79\, 86)\; font-family: Helvetica\, Arial\, sans-serif\; font-size: 14px\; background-color: rgb(255\, 255\, 255)\;">Meet at Riptide Coffee Co. a bit before 10:00 and join in this informative fun workshop.</span></h1>\n
LOCATION:Riptide Coffee Co. Oyhut Bay Ocean Shores\, WA
UID:e.26.8177
SEQUENCE:3
DTSTAMP:20260425T230412Z
URL:https://chamber.graysharbor.org/events/details/naturalist-photography-walking-workshop-8177
END:VEVENT

END:VCALENDAR
