BEGIN:VCALENDAR
VERSION:2.0
PRODID:-//ChamberMaster//Event Calendar 2.0//EN
METHOD:PUBLISH
X-PUBLISHED-TTL:P3D
REFRESH-INTERVAL:P3D
CALSCALE:GREGORIAN
BEGIN:VEVENT
DTSTART:20190825T033000Z
DTEND:20190825T050000Z
X-MICROSOFT-CDO-ALLDAYEVENT:FALSE
SUMMARY:Neil Gregory Johnson at The Tap Room
DESCRIPTION:Neil is a folk\, country\, soul singer who will be touring through the state and will be stopping at The Tap Room for one night only! He has been compared to Lyle Lovett and Bob Seger. Come in and enjoy his take on classics and his own original work.
X-ALT-DESC;FMTTYPE=text/html:<span style="display: inline !important\; float: none\; background-color: transparent\; color: rgb(29\, 33\, 41)\; font-family: Helvetica\,Arial\,sans-serif\; font-size: 14px\; font-style: normal\; font-variant: normal\; font-weight: 400\; letter-spacing: normal\; orphans: 2\; text-align: left\; text-decoration: none\; text-indent: 0px\; text-transform: none\; -webkit-text-stroke-width: 0px\; white-space: pre-wrap\; word-spacing: 0px\;">Neil is a folk\, country\, soul singer who will be touring through the state and will be stopping at The Tap Room for one night only! He has been compared to Lyle Lovett and Bob Seger. Come in and enjoy his take on classics and his own original work.</span>
LOCATION:The Tap Room 103 E Wishkah St\, Aberdeen\, Washington 98520
UID:e.26.12177
SEQUENCE:3
DTSTAMP:20260424T090244Z
URL:https://chamber.graysharbor.org/events/details/neil-gregory-johnson-at-the-tap-room-12177
END:VEVENT

END:VCALENDAR
