BEGIN:VCALENDAR
VERSION:2.0
PRODID:-//ChamberMaster//Event Calendar 2.0//EN
METHOD:PUBLISH
X-PUBLISHED-TTL:P3D
REFRESH-INTERVAL:P3D
CALSCALE:GREGORIAN
BEGIN:VEVENT
DTSTART:20170830T010000Z
DTEND:20170830T030000Z
X-MICROSOFT-CDO-ALLDAYEVENT:FALSE
SUMMARY:Nerium Red Carpet Debut Party
DESCRIPTION:Complimentary appetizers and product demonstrations. Special guest speaker Kathy Henken.
X-ALT-DESC;FMTTYPE=text/html:Complimentary appetizers and product demonstrations. Special guest speaker Kathy Henken.&nbsp\;
LOCATION:Cortese's Italian Restaurant 212 South I St. Aberdeen\, WA
UID:e.26.8176
SEQUENCE:3
DTSTAMP:20260425T230223Z
URL:https://chamber.graysharbor.org/events/details/nerium-red-carpet-debut-party-8176
END:VEVENT

END:VCALENDAR
