BEGIN:VCALENDAR
VERSION:2.0
PRODID:-//ChamberMaster//Event Calendar 2.0//EN
METHOD:PUBLISH
X-PUBLISHED-TTL:P3D
REFRESH-INTERVAL:P3D
CALSCALE:GREGORIAN
BEGIN:VEVENT
DTSTART:20190705T040000Z
DTEND:20190705T060000Z
X-MICROSOFT-CDO-ALLDAYEVENT:FALSE
SUMMARY:Nerve On Ya at Splash Festival
DESCRIPTION:Come experience the sounds\, music and energy of Nirvana\, with Nerve On Ya\, A Tribute to Nirvana\, at Aberdeen's 4th of July Splash Festival.\n\nWe're bringing covers of MTV'S Unplugged accoustic sessions blended with full Rock Show. To include: On A Plane\, Mollies Lips\, Man Who Sold the World\, Dumb\, Love Buzz\, All Appologies\, Lithium\, and many more. Come hang with us for 90 minutes to pay tribute to Aberdeen's Nirvana.\n\nStone Hart: Guitar\, vocals\n\nJustin Sabol: Bass guitar\, vocals\n\nRobert McFadden: Drums\, vocals
X-ALT-DESC;FMTTYPE=text/html:<span style="caret-color: rgb(29\, 33\, 41)\; color: rgb(29\, 33\, 41)\; font-family: system-ui\, -apple-system\, BlinkMacSystemFont\, &quot\;.SFNSText-Regular&quot\;\, sans-serif\; font-size: 14px\; white-space: pre-wrap\;">Come experience the sounds\, music and energy of Nirvana\, with </span><span style="caret-color: rgb(29\, 33\, 41)\; color: rgb(29\, 33\, 41)\; font-family: system-ui\, -apple-system\, BlinkMacSystemFont\, &quot\;.SFNSText-Regular&quot\;\, sans-serif\; font-size: 14px\; white-space: pre-wrap\;">Nerve On Ya\, A Tribute to Nirvana\, at Aberdeen&#39\;s 4th of July Splash Festival.</span><br style="caret-color: rgb(29\, 33\, 41)\; color: rgb(29\, 33\, 41)\; font-family: system-ui\, -apple-system\, BlinkMacSystemFont\, &quot\;.SFNSText-Regular&quot\;\, sans-serif\; font-size: 14px\; white-space: pre-wrap\;" />\n<span style="caret-color: rgb(29\, 33\, 41)\; color: rgb(29\, 33\, 41)\; font-family: system-ui\, -apple-system\, BlinkMacSystemFont\, &quot\;.SFNSText-Regular&quot\;\, sans-serif\; font-size: 14px\; white-space: pre-wrap\;">We&#39\;re bringing covers of MTV&#39\;S Unplugged accoustic sessions blended with full Rock Show. To include: </span><span style="caret-color: rgb(29\, 33\, 41)\; color: rgb(29\, 33\, 41)\; font-family: system-ui\, -apple-system\, BlinkMacSystemFont\, &quot\;.SFNSText-Regular&quot\;\, sans-serif\; font-size: 14px\; white-space: pre-wrap\;"><em>On A Plane\, Mollies Lips\, Man Who Sold the World\, Dumb\, Love Buzz\, All Appologies\, Lithium</em>\, and many more. Come hang with us for 90 minutes to pay tribute to Aberdeen&#39\;s Nirvana.</span><br style="caret-color: rgb(29\, 33\, 41)\; color: rgb(29\, 33\, 41)\; font-family: system-ui\, -apple-system\, BlinkMacSystemFont\, &quot\;.SFNSText-Regular&quot\;\, sans-serif\; font-size: 14px\; white-space: pre-wrap\;" />\n<span style="caret-color: rgb(29\, 33\, 41)\; color: rgb(29\, 33\, 41)\; font-family: system-ui\, -apple-system\, BlinkMacSystemFont\, &quot\;.SFNSText-Regular&quot\;\, sans-serif\; font-size: 14px\; white-space: pre-wrap\;"><strong>Stone Hart:</strong> Guitar\, vocals</span><br style="caret-color: rgb(29\, 33\, 41)\; color: rgb(29\, 33\, 41)\; font-family: system-ui\, -apple-system\, BlinkMacSystemFont\, &quot\;.SFNSText-Regular&quot\;\, sans-serif\; font-size: 14px\; white-space: pre-wrap\;" />\n<span style="caret-color: rgb(29\, 33\, 41)\; color: rgb(29\, 33\, 41)\; font-family: system-ui\, -apple-system\, BlinkMacSystemFont\, &quot\;.SFNSText-Regular&quot\;\, sans-serif\; font-size: 14px\; white-space: pre-wrap\;"><strong>Justin Sabol:</strong> Bass guitar\, vocals</span><br style="caret-color: rgb(29\, 33\, 41)\; color: rgb(29\, 33\, 41)\; font-family: system-ui\, -apple-system\, BlinkMacSystemFont\, &quot\;.SFNSText-Regular&quot\;\, sans-serif\; font-size: 14px\; white-space: pre-wrap\;" />\n<span style="caret-color: rgb(29\, 33\, 41)\; color: rgb(29\, 33\, 41)\; font-family: system-ui\, -apple-system\, BlinkMacSystemFont\, &quot\;.SFNSText-Regular&quot\;\, sans-serif\; font-size: 14px\; white-space: pre-wrap\;"><strong>Robert McFadden:</strong> Drums\, vocals</span>
LOCATION:pin Rotary Club of Aberdeen\, WA #56 1399 Sargent Blvd / PO Box 836\, Aberdeen\, Washington 98520
UID:e.26.12081
SEQUENCE:3
DTSTAMP:20260424T115429Z
URL:https://chamber.graysharbor.org/events/details/nerve-on-ya-at-splash-festival-12081
END:VEVENT

END:VCALENDAR
