BEGIN:VCALENDAR
VERSION:2.0
PRODID:-//ChamberMaster//Event Calendar 2.0//EN
METHOD:PUBLISH
X-PUBLISHED-TTL:P3D
REFRESH-INTERVAL:P3D
CALSCALE:GREGORIAN
BEGIN:VEVENT
DTSTART:20190118T210000Z
DTEND:20190118T220000Z
X-MICROSOFT-CDO-ALLDAYEVENT:FALSE
SUMMARY:New Member Ribbon Cutting
DESCRIPTION:Please join the GGHI Ambassador Team for a New Member Ribbon Cutting celebrating Grays Harbor Respiratory Services! This event will take place on Friday\, January 18 at 1:00 pm. The address is 954 Anderson Dr. Ste. 109 in Aberdeen\, but for those of you not familiar\, it is up hospital hill in Aberdeen.\n\n \n\nPlease come out to support this organization\, and check out all they have to offer!
X-ALT-DESC;FMTTYPE=text/html:<p style="caret-color: rgb(33\, 33\, 33)\; color: rgb(33\, 33\, 33)\; font-size: 11pt\; font-family: Calibri\, sans-serif\, serif\, EmojiFont\; margin: 0px\;">Please join the GGHI Ambassador Team for a New Member Ribbon Cutting celebrating&nbsp\;Grays Harbor Respiratory Services! This event will take place on Friday\, January 18 at 1:00 pm. The address is 954 Anderson Dr. Ste. 109 in Aberdeen\, but for those of you not familiar\, it is up hospital hill in Aberdeen.</p>\n\n<p style="caret-color: rgb(33\, 33\, 33)\; color: rgb(33\, 33\, 33)\; font-size: 11pt\; font-family: Calibri\, sans-serif\, serif\, EmojiFont\; margin: 0px\;">&nbsp\;</p>\n\n<p style="caret-color: rgb(33\, 33\, 33)\; color: rgb(33\, 33\, 33)\; font-size: 11pt\; font-family: Calibri\, sans-serif\, serif\, EmojiFont\; margin: 0px\;">Please come out to support this organization\, and check out all they have to offer!</p>\n
LOCATION:Grays Harbor Respiratory Services 954 Anderson Dr. Ste. 109 Aberdeen\, WA
UID:e.26.11646
SEQUENCE:3
DTSTAMP:20260424T194436Z
URL:https://chamber.graysharbor.org/events/details/new-member-ribbon-cutting-11646
END:VEVENT

END:VCALENDAR
