BEGIN:VCALENDAR
VERSION:2.0
PRODID:-//ChamberMaster//Event Calendar 2.0//EN
METHOD:PUBLISH
X-PUBLISHED-TTL:P3D
REFRESH-INTERVAL:P3D
CALSCALE:GREGORIAN
BEGIN:VEVENT
DTSTART:20191231T230000Z
DTEND:20200101T040000Z
X-MICROSOFT-CDO-ALLDAYEVENT:FALSE
SUMMARY:New Year's Eve at Lake Quinault Lodge
DESCRIPTION:An enjoyable and comfortable dining experience to help ring out 2019 and ring in 2020! Plan an evening at the Lake Quinault Lodge in the historical Roosevelt Dining Room for a very special dining experience. The Executive Chef\, has created a scrumptious New Year's Eve Surf & Turf Dinner Special.\n\n\n\nReservations are recommended by calling 360.288.2919\n\n\n\nBook your lodging today at http://bit.ly/31dtApm
X-ALT-DESC;FMTTYPE=text/html:<font color="#1d2129" face="system-ui\, -apple-system\, BlinkMacSystemFont\, .SFNSText-Regular\, sans-serif"><span style="caret-color: rgb(29\, 33\, 41)\; font-size: 14px\; white-space: pre-wrap\;">An enjoyable and comfortable dining experience to help ring out 2019 and ring in 2020! Plan an evening at the Lake Quinault Lodge in the historical Roosevelt Dining Room for a very special dining experience. The Executive Chef\, has created a scrumptious New Year&#39\;s Eve Surf &amp\; Turf Dinner Special.</span></font><br style="caret-color: rgb(29\, 33\, 41)\; color: rgb(29\, 33\, 41)\; font-family: system-ui\, -apple-system\, BlinkMacSystemFont\, &quot\;.SFNSText-Regular&quot\;\, sans-serif\; font-size: 14px\; white-space: pre-wrap\;" />\n<br style="caret-color: rgb(29\, 33\, 41)\; color: rgb(29\, 33\, 41)\; font-family: system-ui\, -apple-system\, BlinkMacSystemFont\, &quot\;.SFNSText-Regular&quot\;\, sans-serif\; font-size: 14px\; white-space: pre-wrap\;" />\n<span style="caret-color: rgb(29\, 33\, 41)\; color: rgb(29\, 33\, 41)\; font-family: system-ui\, -apple-system\, BlinkMacSystemFont\, &quot\;.SFNSText-Regular&quot\;\, sans-serif\; font-size: 14px\; white-space: pre-wrap\;">Reservations are recommended by calling 360.288.2919</span><br style="caret-color: rgb(29\, 33\, 41)\; color: rgb(29\, 33\, 41)\; font-family: system-ui\, -apple-system\, BlinkMacSystemFont\, &quot\;.SFNSText-Regular&quot\;\, sans-serif\; font-size: 14px\; white-space: pre-wrap\;" />\n<br style="caret-color: rgb(29\, 33\, 41)\; color: rgb(29\, 33\, 41)\; font-family: system-ui\, -apple-system\, BlinkMacSystemFont\, &quot\;.SFNSText-Regular&quot\;\, sans-serif\; font-size: 14px\; white-space: pre-wrap\;" />\n<span style="caret-color: rgb(29\, 33\, 41)\; color: rgb(29\, 33\, 41)\; font-family: system-ui\, -apple-system\, BlinkMacSystemFont\, &quot\;.SFNSText-Regular&quot\;\, sans-serif\; font-size: 14px\; white-space: pre-wrap\;">Book your lodging today at </span><a data-lynx-mode="hover" href="https://l.facebook.com/l.php?u=https%3A%2F%2Fbit.ly%2F31dtApm%3Ffbclid%3DIwAR1Y2PlxmVEEsK8pYuBsPzkhw7-G2TXTds076spUeiJOpi2WLbI6Bw-21Zo&amp\;h=AT3BoekXLDZQyugsgwOiyiVfWFE-3FHi-Iq9syRDcBzF6m3C25Dvgva0iiqxpX3-dp_Zh-2D2RSIEI06yAHMWHrf48ycNn_qQ5hPMRqbrogoeahydiCbS51g6fvZKjc_1bikM8FGuw" rel="nofollow noopener" style="color: rgb(56\, 88\, 152)\; cursor: pointer\; text-decoration: none\; font-family: system-ui\, -apple-system\, BlinkMacSystemFont\, &quot\;.SFNSText-Regular&quot\;\, sans-serif\; font-size: 14px\; white-space: pre-wrap\;" target="_blank">http://bit.ly/31dtApm</a>
LOCATION:pin 345 S Shore Rd\, Quinault\, WA 98575-9700\, United States
UID:e.26.12282
SEQUENCE:3
DTSTAMP:20260424T000020Z
URL:https://chamber.graysharbor.org/events/details/new-year-s-eve-at-lake-quinault-lodge-12282
END:VEVENT

END:VCALENDAR
