BEGIN:VCALENDAR
VERSION:2.0
PRODID:-//ChamberMaster//Event Calendar 2.0//EN
METHOD:PUBLISH
X-PUBLISHED-TTL:P3D
REFRESH-INTERVAL:P3D
CALSCALE:GREGORIAN
BEGIN:VEVENT
DTSTART:20190101T003000Z
DTEND:20190101T063000Z
X-MICROSOFT-CDO-ALLDAYEVENT:FALSE
SUMMARY:New Year's Eve Bingo
DESCRIPTION:Veterans of Foreign Wars (VFW) 1948 is hosting their annual New Year's Eve Bingo at Elma High School. This family friendly event is great way to spend some time with your kids\, even if you decide to go to an adult-only part afterward. Events is Potluck\, so bring a favorite dish to share.
X-ALT-DESC;FMTTYPE=text/html:<span style="caret-color: rgb(34\, 34\, 34)\; color: rgb(34\, 34\, 34)\; font-family: Verdana\, Geneva\, sans-serif\; font-size: 15px\; background-color: rgb(255\, 255\, 255)\;">Veterans of Foreign Wars (VFW) 1948 is hosting their annual&nbsp\;</span><a class="external" href="https://www.facebook.com/events/521530738349361/" rel="nofollow" style="box-sizing: border-box\; color: rgb(77\, 178\, 236)\; text-decoration: none\; font-family: Verdana\, Geneva\, sans-serif\; font-size: 15px\;" target="_blank">New Year&rsquo\;s Eve Bingo</a><span style="caret-color: rgb(34\, 34\, 34)\; color: rgb(34\, 34\, 34)\; font-family: Verdana\, Geneva\, sans-serif\; font-size: 15px\; background-color: rgb(255\, 255\, 255)\;">&nbsp\;at Elma High School. This family friendly event is great way to spend some time with your kids\, even if you decide to go to an adult-only part afterward. Events is Potluck\, so bring a favorite dish to share.</span>
LOCATION:Elma High School 1011 West Main St. Elma\, WA
UID:e.26.11394
SEQUENCE:3
DTSTAMP:20260424T210757Z
URL:https://chamber.graysharbor.org/events/details/new-year-s-eve-bingo-11394
END:VEVENT

END:VCALENDAR
