BEGIN:VCALENDAR
VERSION:2.0
PRODID:-//ChamberMaster//Event Calendar 2.0//EN
METHOD:PUBLISH
X-PUBLISHED-TTL:P3D
REFRESH-INTERVAL:P3D
CALSCALE:GREGORIAN
BEGIN:VEVENT
DTSTART:20200101T030000Z
DTEND:20200101T075500Z
X-MICROSOFT-CDO-ALLDAYEVENT:FALSE
SUMMARY:New Years Eve at Oyhut Bay
DESCRIPTION:Ring in the roaring 20's with Oyhut Bay at our New Years Eve Party\, Live Music\, all you can eat tapas\, a glass of champagne and an evening of fun!\n\nTickets available for purchase now online or in person at the Bistro & Loft or at the Coffee Shop!
X-ALT-DESC;FMTTYPE=text/html:<span style="caret-color: rgb(29\, 33\, 41)\; color: rgb(29\, 33\, 41)\; font-family: system-ui\, -apple-system\, BlinkMacSystemFont\, &quot\;.SFNSText-Regular&quot\;\, sans-serif\; font-size: 14px\; white-space: pre-wrap\;">Ring in the roaring 20&#39\;s with Oyhut Bay at our New Years Eve Party\, Live Music\, all you can eat tapas\, a glass of champagne and an evening of fun!</span><br style="caret-color: rgb(29\, 33\, 41)\; color: rgb(29\, 33\, 41)\; font-family: system-ui\, -apple-system\, BlinkMacSystemFont\, &quot\;.SFNSText-Regular&quot\;\, sans-serif\; font-size: 14px\; white-space: pre-wrap\;" />\n<span style="caret-color: rgb(29\, 33\, 41)\; color: rgb(29\, 33\, 41)\; font-family: system-ui\, -apple-system\, BlinkMacSystemFont\, &quot\;.SFNSText-Regular&quot\;\, sans-serif\; font-size: 14px\; white-space: pre-wrap\;">Tickets available for purchase now online or in person at the Bistro &amp\; Loft or at the Coffee Shop!</span>
LOCATION:Oyhut Bay Ocean Shores\, WA
UID:e.26.12315
SEQUENCE:3
DTSTAMP:20260424T042341Z
URL:https://chamber.graysharbor.org/events/details/new-years-eve-at-oyhut-bay-12315
END:VEVENT

END:VCALENDAR
