BEGIN:VCALENDAR
VERSION:2.0
PRODID:-//ChamberMaster//Event Calendar 2.0//EN
METHOD:PUBLISH
X-PUBLISHED-TTL:P3D
REFRESH-INTERVAL:P3D
CALSCALE:GREGORIAN
BEGIN:VEVENT
DTSTART:20191231T200000Z
DTEND:20200101T095500Z
X-MICROSOFT-CDO-ALLDAYEVENT:FALSE
SUMMARY:New Years Eve Bash at Pine Tree Bar & Grill
DESCRIPTION:Come end the year with the Pine Tree Bar & Grill!\n\nLive band starting at 9pm till 1am!!     champagne toast   at midnight!
X-ALT-DESC;FMTTYPE=text/html:<span style="caret-color: rgb(29\, 33\, 41)\; color: rgb(29\, 33\, 41)\; font-family: system-ui\, -apple-system\, BlinkMacSystemFont\, &quot\;.SFNSText-Regular&quot\;\, sans-serif\; font-size: 14px\; white-space: pre-wrap\;">Come end the year with the Pine Tree Bar &amp\; Grill!<br />\nLive band starting at 9pm till 1am!! &#127908\;&#127928\;&#127929\; champagne toast &#129346\; at midnight! </span>
LOCATION:pin Pine Tree Bar & Grill 101 W Ocean Ave\, Westport\, Washington 98595
UID:e.26.12324
SEQUENCE:3
DTSTAMP:20260424T025117Z
URL:https://chamber.graysharbor.org/events/details/new-years-eve-bash-at-pine-tree-bar-grill-12324
END:VEVENT

END:VCALENDAR
