BEGIN:VCALENDAR
VERSION:2.0
PRODID:-//ChamberMaster//Event Calendar 2.0//EN
METHOD:PUBLISH
X-PUBLISHED-TTL:P3D
REFRESH-INTERVAL:P3D
CALSCALE:GREGORIAN
BEGIN:VEVENT
DTSTART:20170510T223000Z
DTEND:20170510T233000Z
X-MICROSOFT-CDO-ALLDAYEVENT:FALSE
SUMMARY:Next Generation Workforce Services
DESCRIPTION:-Do you know someone who has had difficulty getting a job? -Do you know someone who has had difficulty finding qualified staff? -Do you know someone who has accessed employment related services at a WorkSource Center or a similar organization\, like the Division of Vocational Rehabilitation\, DSHS\, the Community Action Agency? Have you ever use used a WorkSource Center? -Do you feel that people in your community could benefit from greater access to high quality employment related services? Let us know how we can better serve you and your community.\n\n\n\nAgenda:   Welcome and overview - 5 min   PacMtn overview   5 min   WorkSource Overview   5 min   Community Input   40 min - What employment related services would local job seekers or employers expect to receive for WorkSource and similar organizations? - Where would you want to access employment services? - What would be your preferred way to access these services? - Do the employment services offered meet your expectations?   Next Steps - 5 min   Adjourn More information about this effort is available at: www.PacMtn.org. To receive updated\, like PacMtn on Facebook.
X-ALT-DESC;FMTTYPE=text/html:-Do you know someone who has had difficulty getting a job? -Do you know someone who has had difficulty finding qualified staff? -Do you know someone who has accessed employment related services at a WorkSource Center or a similar organization\, like the Division of Vocational Rehabilitation\, DSHS\, the Community Action Agency? Have you ever use used a WorkSource Center? -Do you feel that people in your community could benefit from greater access to high quality employment related services? Let us know how we can better serve you and your community.<br />\n<br />\n<strong>Agenda:</strong> &bull\; Welcome and overview - 5 min &bull\; PacMtn overview &ndash\; 5 min &bull\; WorkSource Overview &ndash\; 5 min &bull\; Community Input &ndash\; 40 min - What employment related services would local job seekers or employers expect to receive for WorkSource and similar organizations? - Where would you want to access employment services? - What would be your preferred way to access these services? - Do the employment services offered meet your expectations? &bull\; Next Steps - 5 min &bull\; Adjourn More information about this effort is available at: www.PacMtn.org. To receive updated\, like PacMtn on Facebook.
LOCATION:Grays Harbor College- Gene Schermer Building\, Room 4331
UID:e.26.7681
SEQUENCE:3
DTSTAMP:20260426T032455Z
URL:https://chamber.graysharbor.org/events/details/next-generation-workforce-services-7681
END:VEVENT

END:VCALENDAR
