BEGIN:VCALENDAR
VERSION:2.0
PRODID:-//ChamberMaster//Event Calendar 2.0//EN
METHOD:PUBLISH
X-PUBLISHED-TTL:P3D
REFRESH-INTERVAL:P3D
CALSCALE:GREGORIAN
BEGIN:VEVENT
DTSTART:20180809T030000Z
DTEND:20180809T050000Z
X-MICROSOFT-CDO-ALLDAYEVENT:FALSE
SUMMARY:Nitty Gritty Dirt Band at the Grays Harbor County Fair
DESCRIPTION:Get your Golden Circle Reserved seats online now for Nitty Gritty Dirt Band\, Wednesday\, August 8\, 8pm at the Grays Harbor County Fair! \n\n\n\nhttps://www.ncourt.com/x-press/x-onlinepayments.aspx?juris=865DB3EE-CBFD-4038-A7E9-5599BFDACCC0\n\n\n\nFresh off their 50th Anniversary Tour\, the iconic and profoundly influential Nitty Gritty Dirt Band\, is often cited as a catalyst for an entire movement in Country Rock and American Roots Music. \n\n\n\nGolden Circle Reserved Tickets are $25\, $35\, and $45 which includes Fair Admission. Get tickets now at Or see the show for free\, with your paid Fair AdmissionOr see the show for free\, with your paid Fair Admission
X-ALT-DESC;FMTTYPE=text/html:<span style="color: rgb(29\, 33\, 41)\; font-family: Helvetica\, Arial\, sans-serif\; font-size: 14px\; background-color: rgb(255\, 255\, 255)\;">Get your Golden Circle Reserved seats online now for Nitty Gritty Dirt Band\, Wednesday\, August 8\, 8pm at the Grays Harbor County Fair!&nbsp\;</span><br style="color: rgb(29\, 33\, 41)\; font-family: Helvetica\, Arial\, sans-serif\; font-size: 14px\; background-color: rgb(255\, 255\, 255)\;" />\n<br style="color: rgb(29\, 33\, 41)\; font-family: Helvetica\, Arial\, sans-serif\; font-size: 14px\; background-color: rgb(255\, 255\, 255)\;" />\n<a data-lynx-mode="hover" data-lynx-uri="https://l.facebook.com/l.php?u=https%3A%2F%2Fwww.ncourt.com%2Fx-press%2Fx-onlinepayments.aspx%3Fjuris%3D865DB3EE-CBFD-4038-A7E9-5599BFDACCC0&amp\;h=AT3EDGKQCDyM1o76txOFhxHlFqcOCdBCvwiepKDPQW1l5tqgcJ1qbJt9XEYVAKuDpl0vDMYVZ4rrMtde-KsEewWlbn68NgpvAtrdm9MsMqlsCW-LN8iuTIAzhY0f51dg92OwepeeJfPY05saBNE" href="https://www.ncourt.com/x-press/x-onlinepayments.aspx?juris=865DB3EE-CBFD-4038-A7E9-5599BFDACCC0" rel="nofollow noopener" style="color: rgb(54\, 88\, 153)\; cursor: pointer\; text-decoration-line: none\; font-family: Helvetica\, Arial\, sans-serif\; font-size: 14px\; background-color: rgb(255\, 255\, 255)\;" target="_blank">https://www.ncourt.com/x-press/x-onlinepayments.aspx?juris=865DB3EE-CBFD-4038-A7E9-5599BFDACCC0</a><br style="color: rgb(29\, 33\, 41)\; font-family: Helvetica\, Arial\, sans-serif\; font-size: 14px\; background-color: rgb(255\, 255\, 255)\;" />\n<br style="color: rgb(29\, 33\, 41)\; font-family: Helvetica\, Arial\, sans-serif\; font-size: 14px\; background-color: rgb(255\, 255\, 255)\;" />\n<span style="color: rgb(29\, 33\, 41)\; font-family: Helvetica\, Arial\, sans-serif\; font-size: 14px\; background-color: rgb(255\, 255\, 255)\;">Fresh off their 50th Anniversary Tour\, the iconic and profoundly influential Nitty Gritty Dirt Band\, is often cited as a catalyst for an entire movement in Country Rock and American Roots Music.&nbsp\;</span><br style="color: rgb(29\, 33\, 41)\; font-family: Helvetica\, Arial\, sans-serif\; font-size: 14px\; background-color: rgb(255\, 255\, 255)\;" />\n<br style="color: rgb(29\, 33\, 41)\; font-family: Helvetica\, Arial\, sans-serif\; font-size: 14px\; background-color: rgb(255\, 255\, 255)\;" />\n<span style="color: rgb(29\, 33\, 41)\; font-family: Helvetica\, Arial\, sans-serif\; font-size: 14px\; background-color: rgb(255\, 255\, 255)\;">Golden Circle Reserved Tickets are $25\, $35\, and $45 which includes Fair Admission. Get tickets now at Or see the show for free\, with your paid Fair AdmissionOr see the show for free\, with your paid Fair Admission</span>
LOCATION:Grays Harbor Fairgrounds Elma\, WA
UID:e.26.11198
SEQUENCE:3
DTSTAMP:20260425T034638Z
URL:https://chamber.graysharbor.org/events/details/nitty-gritty-dirt-band-at-the-grays-harbor-county-fair-11198
END:VEVENT

END:VCALENDAR
