BEGIN:VCALENDAR
VERSION:2.0
PRODID:-//ChamberMaster//Event Calendar 2.0//EN
METHOD:PUBLISH
X-PUBLISHED-TTL:P3D
REFRESH-INTERVAL:P3D
CALSCALE:GREGORIAN
BEGIN:VEVENT
DTSTART:20251111T180000Z
DTEND:20251111T200000Z
X-MICROSOFT-CDO-ALLDAYEVENT:FALSE
SUMMARY:North Beach Eagles #4197 Veterans Day Celebration and Lunch
DESCRIPTION:11:11 a.m. ceremony with lunch to follow Free for veterans\, $10 for non-veterans
X-ALT-DESC;FMTTYPE=text/html:<p style="box-sizing: border-box\; margin-top: 0px\; margin-bottom: 1.7rem\; font-size: 16px\; max-width: 640px\; color: rgb(26\, 26\, 26)\; font-family: Merriweather\, serif\;"><span style="font-size:14px\;"><span style="font-family:arial\;">11:11 a.m. ceremony with lunch to follow&nbsp\;</span></span><span style="font-size:14px\;"><span style="font-family:arial\;">Free for veterans\, $10 for non-veterans</span></span></p>\n
LOCATION:676 Ocean Shores Blvd NW
UID:e.26.15301
SEQUENCE:3
DTSTAMP:20260423T234103Z
URL:https://chamber.graysharbor.org/events/details/north-beach-eagles-4197-veterans-day-celebration-and-lunch-15301
END:VEVENT

END:VCALENDAR
