BEGIN:VCALENDAR
VERSION:2.0
PRODID:-//ChamberMaster//Event Calendar 2.0//EN
METHOD:PUBLISH
X-PUBLISHED-TTL:P3D
REFRESH-INTERVAL:P3D
CALSCALE:GREGORIAN
BEGIN:VEVENT
DTSTART:20190405T200000Z
DTEND:20190405T210000Z
X-MICROSOFT-CDO-ALLDAYEVENT:FALSE
SUMMARY:North Pacific Utopian Wares Ribbon Cutting
DESCRIPTION:The Greater Grays Harbor\, Inc. Ambassador Team will be performing a ribbon cutting for North Pacific Utopian Wares on Friday\, April 5th at 1:00 pm! They are in their new location following their time in theShoppes at Riverside.. The address of their new location is 224 W Market St. Aberdeen\, WA.\n\nWe hope to see you there!
X-ALT-DESC;FMTTYPE=text/html:<span style="caret-color: rgb(29\, 33\, 41)\; color: rgb(29\, 33\, 41)\; font-family: system-ui\, -apple-system\, BlinkMacSystemFont\, &quot\;.SFNSText-Regular&quot\;\, sans-serif\; font-size: 14px\; white-space: pre-wrap\;">The Greater Grays Harbor\, Inc. Ambassador Team will be performing a ribbon cutting for North Pacific Utopian Wares on Friday\, April 5th at 1:00 pm! They are in their new location following their time in theShoppes at Riverside.. The address of their new location is 224 W Market St. Aberdeen\, WA.</span><br style="caret-color: rgb(29\, 33\, 41)\; color: rgb(29\, 33\, 41)\; font-family: system-ui\, -apple-system\, BlinkMacSystemFont\, &quot\;.SFNSText-Regular&quot\;\, sans-serif\; font-size: 14px\; white-space: pre-wrap\;" />\n<span style="caret-color: rgb(29\, 33\, 41)\; color: rgb(29\, 33\, 41)\; font-family: system-ui\, -apple-system\, BlinkMacSystemFont\, &quot\;.SFNSText-Regular&quot\;\, sans-serif\; font-size: 14px\; white-space: pre-wrap\;">We hope to see you there! </span>
LOCATION:224 W Market St Aberdeen\, WA
UID:e.26.11884
SEQUENCE:3
DTSTAMP:20260424T164010Z
URL:https://chamber.graysharbor.org/events/details/north-pacific-utopian-wares-ribbon-cutting-11884
END:VEVENT

END:VCALENDAR
