BEGIN:VCALENDAR
VERSION:2.0
PRODID:-//ChamberMaster//Event Calendar 2.0//EN
METHOD:PUBLISH
X-PUBLISHED-TTL:P3D
REFRESH-INTERVAL:P3D
CALSCALE:GREGORIAN
BEGIN:VEVENT
DTSTART:20180324T153000Z
DTEND:20180325T010000Z
X-MICROSOFT-CDO-ALLDAYEVENT:FALSE
SUMMARY:Northwest Trek EDventure
DESCRIPTION:Tour through 435 acres of stunning meadows and forests. You will get an eye-to-eye view of nature's fascinating animals like moose\, Roosevelt elk\, bison and more as you explore their natural habitat. See the newest arrivals\, the babies of spring as a naturalist narrates your way through the tour. *Lunch is included in the cost. cost:$87 Depart Aberdeen campus: 8:30 AM Arrive back at the Aberdeen campus:6:00 PM
X-ALT-DESC;FMTTYPE=text/html:<span style="color: rgb(75\, 79\, 86)\; font-family: Helvetica\, Arial\, sans-serif\; font-size: 14px\; background-color: rgb(255\, 255\, 255)\;">Tour through 435 acres of stunning meadows and forests. You will get an eye-to-eye view of nature&#39\;s fascinating animals like moose\, Roosevelt elk\, bison and more as you explore their natural habitat. See the newest arrivals\, the babies of spring as a naturalist narrates your way through the tour. *Lunch is included in the cost. cost:$87 Depart Aberdeen campus: 8:30 AM Arrive back at the Aberdeen campus:6:00 PM</span>
LOCATION:Meet at Grays Harbor College
UID:e.26.9447
SEQUENCE:3
DTSTAMP:20260425T115258Z
URL:https://chamber.graysharbor.org/events/details/northwest-trek-edventure-9447
END:VEVENT

END:VCALENDAR
