BEGIN:VCALENDAR
VERSION:2.0
PRODID:-//ChamberMaster//Event Calendar 2.0//EN
METHOD:PUBLISH
X-PUBLISHED-TTL:P3D
REFRESH-INTERVAL:P3D
CALSCALE:GREGORIAN
BEGIN:VEVENT
DTSTART:20171130T180000Z
DTEND:20171130T210000Z
X-MICROSOFT-CDO-ALLDAYEVENT:FALSE
SUMMARY:November Knit-N-Spin
DESCRIPTION:It's that time of year! It's getting COLD\, and everybody wants something knitted or crocheted! Come on down and join some fun folk doing fun things! You never know\, we might have hot cocoa!
X-ALT-DESC;FMTTYPE=text/html:<span style="color: rgb(75\, 79\, 86)\; font-family: Helvetica\, Arial\, sans-serif\; font-size: 14px\; background-color: rgb(255\, 255\, 255)\;">It&#39\;s that time of year! It&#39\;s getting COLD\, and everybody wants something knitted or crocheted! Come on down and join some fun folk doing fun things! You never know\, we might have hot cocoa!</span>
LOCATION:Aberdeen Museum of History 111 E 3rd St. Aberdeen\, WA
UID:e.26.8371
SEQUENCE:3
DTSTAMP:20260425T181132Z
URL:https://chamber.graysharbor.org/events/details/november-knit-n-spin-8371
END:VEVENT

END:VCALENDAR
