BEGIN:VCALENDAR
VERSION:2.0
PRODID:-//ChamberMaster//Event Calendar 2.0//EN
METHOD:PUBLISH
X-PUBLISHED-TTL:P3D
REFRESH-INTERVAL:P3D
CALSCALE:GREGORIAN
BEGIN:VEVENT
DTSTART:20170924T210000Z
DTEND:20170924T233000Z
X-MICROSOFT-CDO-ALLDAYEVENT:FALSE
SUMMARY:NT Live's Peter Pan / Bishop Center
DESCRIPTION:First performed on the National Theatre's stage in London\, soar with NT Live's musical of everyone's favorite imp\, "Peter Pan\," on the Bishop Center big screen. Enjoy popcorn and beverages while this show takes you on one big adventure on Sunday. Get your tickets TODAY to reserve your seats at ghc.edu/bishop! $15 Adults\, $10 Seniors/Students\, Ages 12 & under free with paying ticket holder. It's sure to be a swell time in Neverland!
X-ALT-DESC;FMTTYPE=text/html:First performed on the National Theatre&#39\;s stage in London\, soar with NT Live&#39\;s musical of everyone&#39\;s favorite imp\, &quot\;Peter Pan\,&quot\; on the Bishop Center big screen. Enjoy popcorn and beverages while this show takes you on one big adventure on Sunday. Get your tickets TODAY to reserve your seats at ghc.edu/bishop! $15 Adults\, $10 Seniors/Students\, Ages 12 &amp\; under free with paying ticket holder. It&#39\;s sure to be a swell time in Neverland!
LOCATION:Grays Harbor College Bishop Center for Performing Arts 1620 Edward P. Smith Drive Aberdeen WA 98520
UID:e.26.8253
SEQUENCE:3
DTSTAMP:20260425T230223Z
URL:https://chamber.graysharbor.org/events/details/nt-live-s-peter-pan-bishop-center-8253
END:VEVENT

END:VCALENDAR
