BEGIN:VCALENDAR
VERSION:2.0
PRODID:-//ChamberMaster//Event Calendar 2.0//EN
METHOD:PUBLISH
X-PUBLISHED-TTL:P3D
REFRESH-INTERVAL:P3D
CALSCALE:GREGORIAN
BEGIN:VEVENT
DTSTART:20171029T020000Z
DTEND:20171029T050000Z
X-MICROSOFT-CDO-ALLDAYEVENT:FALSE
SUMMARY:NTL's Frankenstein / Bishop Center
DESCRIPTION:National Theatre Live's thrilling broadcast of Frankenstein returns for a limited time\, due to unprecedented audience demand. Directed by Academy Award -winner Danny Boyle (Trainspotting\, Slumdog Millionaire)\, Frankenstein features Benedict Cumberbatch (12 Years A Slave\, Star Trek: Into Darkness) and Jonny Lee Miller (Trainspotting\, Mansfield Park) alternating roles as Victor Frankenstein and his creation. The production was a sell-out hit at the National Theatre in 2011\, and the broadcast has since become an international sensation\, experienced by almost half a million people in cinemas around the world. Childlike in his innocence but grotesque in form\, Frankenstein's bewildered Creature is cast out into a hostile universe by his horror-struck maker. Meeting with cruelty wherever he goes\, the friendless Creature\, increasingly desperate and vengeful\, determines to track down his creator and strike a terrifying deal. Urgent concerns of scientific responsibility\, parental neglect\, cognitive development and the nature of good and evil are embedded within this thrilling and deeply disturbing classic gothic tale. Adults $15 Seniors & Students $10
X-ALT-DESC;FMTTYPE=text/html:National Theatre Live&rsquo\;s thrilling broadcast of Frankenstein returns for a limited time\, due to unprecedented audience demand. Directed by Academy Award&reg\;-winner Danny Boyle (Trainspotting\, Slumdog Millionaire)\, Frankenstein features Benedict Cumberbatch (12 Years A Slave\, Star Trek: Into Darkness) and Jonny Lee Miller (Trainspotting\, Mansfield Park) alternating roles as Victor Frankenstein and his creation. The production was a sell-out hit at the National Theatre in 2011\, and the broadcast has since become an international sensation\, experienced by almost half a million people in cinemas around the world. Childlike in his innocence but grotesque in form\, Frankenstein&rsquo\;s bewildered Creature is cast out into a hostile universe by his horror-struck maker. Meeting with cruelty wherever he goes\, the friendless Creature\, increasingly desperate and vengeful\, determines to track down his creator and strike a terrifying deal. Urgent concerns of scientific responsibility\, parental neglect\, cognitive development and the nature of good and evil are embedded within this thrilling and deeply disturbing classic gothic tale. Adults $15 Seniors &amp\; Students $10
LOCATION:Grays Harbor College Bishop Center for Performing Arts 1620 Edward P. Smith Drive Aberdeen WA 98520
UID:e.26.8256
SEQUENCE:3
DTSTAMP:20260425T195603Z
URL:https://chamber.graysharbor.org/events/details/ntl-s-frankenstein-bishop-center-8256
END:VEVENT

END:VCALENDAR
