BEGIN:VCALENDAR
VERSION:2.0
PRODID:-//ChamberMaster//Event Calendar 2.0//EN
METHOD:PUBLISH
X-PUBLISHED-TTL:P3D
REFRESH-INTERVAL:P3D
CALSCALE:GREGORIAN
BEGIN:VEVENT
DTSTART:20171202T033000Z
DTEND:20171202T050000Z
X-MICROSOFT-CDO-ALLDAYEVENT:FALSE
SUMMARY:Nuncrackers
DESCRIPTION:Nuncrackers\n\n\n\nBy Dan Goggin\n\nDirected by Kathe Rowe\n\nMusical director Bob Neisinger\n\n\n\nRemaining Play Dates: \n\nFriday & Saturday - December 1\, 2 at 7:30pm\n\nSunday - December 3 at 1:30pm\n\n\n\nCast:\n\nSister Mary Regina - Kathe Rowe\n\nSister Mary Hubert - Debbie Scoones\n\nSister Robert Anne - Monica Ewing\n\nSister Mary Paul - Patty Sundstrom\n\nSister Mary Leo - Stacy Murphy\n\nFather Virgil Manley Trott - Bryan Blackburn\n\nSister Mary Louise - Louise Hoover\n\nAnd \n\nStudents from Mount Saint Helen's School\n\nMichael Turpin\, Jake Hammer\, Mikaela Murphy\, and Sofia Da Silva\n\n\n\nHoliday Musical for the Whole Family\n\nSongs\, dance and comedy routines are being "taped" for a TV special by the Sisters in their convent basement studio. It stars the nuns you love\, plus Father Virgil and some of Mt. St. Helen's most talented students. Filled with Nunsense humor\, the show features an uproarious take on the Nutcracker Ballet. It will make you laugh\, maybe tug at your heartstrings too.\n\n\n\n	Theater\n	Kid Friendly\n	Drama (theater)
X-ALT-DESC;FMTTYPE=text/html:<div class="_2qgs" style="color: rgb(75\, 79\, 86)\; padding: 12px\; position: relative\; border-top: none\; font-family: Helvetica\, Arial\, sans-serif\; font-size: 12px\;"><span class="_4n-j _fbReactionComponent__eventDetailsContentTags fsl" data-testid="event-permalink-details" style="font-size: 14px\; font-family: inherit\;"><em><strong>Nuncrackers</strong></em><br />\n<br />\nBy Dan Goggin<br />\nDirected by Kathe Rowe<br />\nMusical director Bob Neisinger<br />\n<br />\nRemaining Play Dates:&nbsp\;<br />\nFriday &amp\; Saturday - December 1\, 2 at 7:30pm<br />\nSunday - December 3 at 1:30pm<br />\n<br />\nCast:<br />\nSister Mary Regina - Kathe Rowe<br />\n<span class="text_exposed_show" style="display: inline\; font-family: inherit\;">Sister Mary Hubert - Debbie Scoones<br />\nSister Robert Anne - Monica Ewing<br />\nSister Mary Paul - Patty Sundstrom<br />\nSister Mary Leo - Stacy Murphy<br />\nFather Virgil Manley Trott - Bryan Blackburn<br />\nSister Mary Louise - Louise Hoover<br />\nAnd&hellip\;<br />\nStudents from Mount Saint Helen&rsquo\;s School<br />\nMichael Turpin\, Jake Hammer\, Mikaela Murphy\, and Sofia Da Silva<br />\n<br />\nHoliday Musical for the Whole Family<br />\nSongs\, dance and comedy routines are being &quot\;taped&quot\; for a TV special by the Sisters in their convent basement studio. It stars the nuns you love\, plus Father Virgil and some of Mt. St. Helen&#39\;s most talented students. Filled with Nunsense humor\, the show features an uproarious take on the Nutcracker Ballet. It will make you laugh\, maybe tug at your heartstrings too.</span></span></div>\n\n<div class="_1r51" style="line-height: 24px\; margin: 4px 12px 12px\; min-height: 24px\; font-family: Helvetica\, Arial\, sans-serif\; color: rgb(29\, 33\, 41)\; font-size: 12px\;">\n<ul class="uiList uiCollapsedList uiCollapsedListHidden _509- _4ki" id="u_jsonp_7_o" style="list-style-type: none\; margin: 0px\; padding: 0px\;">\n	<li style="border-width: 0px\; display: inline-block\; vertical-align: top\;"><a href="https://www.facebook.com/events/discovery/?acontext=%7B%22ref%22%3A44%2C%22unit_ref%22%3A%22related_events%22%2C%22source%22%3A1%2C%22action_history%22%3A%22%5B%7B%5C%22surface%5C%22%3A%5C%22permalink%5C%22%2C%5C%22mechanism%5C%22%3A%5C%22RHC%5C%22%2C%5C%22extra_data%5C%22%3A%5B%5D%7D%2C%7B%5C%22surface%5C%22%3A%5C%22permalink%5C%22%2C%5C%22mechanism%5C%22%3A%5C%22surface%5C%22%2C%5C%22extra_data%5C%22%3A%5B%5D%7D%2C%7B%5C%22surface%5C%22%3A%5C%22permalink%5C%22%2C%5C%22mechanism%5C%22%3A%5C%22event_information%5C%22%2C%5C%22extra_data%5C%22%3A%7B%5C%22tag%5C%22%3A%5C%22Theater%5C%22%7D%7D%5D%22%2C%22has_source%22%3Atrue%7D&amp\;suggestion_token=%7B%22event_categories%22%3A%5B664694117046626%5D%7D" style="color: rgb(54\, 88\, 153)\; cursor: pointer\; text-decoration-line: none\; font-family: inherit\;"><span class="_47od" style="background-color: rgb(237\, 242\, 250)\; border-radius: 2px\; color: rgb(32\, 55\, 95)\; display: block\; height: 14px\; line-height: 14px\; margin: 0px 4px 4px 0px\; padding: 4px 6px\; position: relative\; font-family: inherit\;">Theater</span></a></li>\n	<li style="border-width: 0px 0px 0px 1px\; display: inline-block\; vertical-align: top\;"><a href="https://www.facebook.com/events/discovery/?acontext=%7B%22ref%22%3A44%2C%22unit_ref%22%3A%22related_events%22%2C%22source%22%3A1%2C%22action_history%22%3A%22%5B%7B%5C%22surface%5C%22%3A%5C%22permalink%5C%22%2C%5C%22mechanism%5C%22%3A%5C%22RHC%5C%22%2C%5C%22extra_data%5C%22%3A%5B%5D%7D%2C%7B%5C%22surface%5C%22%3A%5C%22permalink%5C%22%2C%5C%22mechanism%5C%22%3A%5C%22surface%5C%22%2C%5C%22extra_data%5C%22%3A%5B%5D%7D%2C%7B%5C%22surface%5C%22%3A%5C%22permalink%5C%22%2C%5C%22mechanism%5C%22%3A%5C%22event_information%5C%22%2C%5C%22extra_data%5C%22%3A%7B%5C%22tag%5C%22%3A%5C%22Kid+Friendly%5C%22%7D%7D%5D%22%2C%22has_source%22%3Atrue%7D&amp\;suggestion_token=%7B%22event_flags%22%3A%5B%22family_friendly%22%5D%7D" style="color: rgb(54\, 88\, 153)\; cursor: pointer\; text-decoration-line: none\; font-family: inherit\;"><span class="_47od" style="background-color: rgb(237\, 242\, 250)\; border-radius: 2px\; color: rgb(32\, 55\, 95)\; display: block\; height: 14px\; line-height: 14px\; margin: 0px 4px 4px 0px\; padding: 4px 6px\; position: relative\; font-family: inherit\;">Kid Friendly</span></a></li>\n	<li style="border-width: 0px 0px 0px 1px\; display: inline-block\; vertical-align: top\;"><a href="https://www.facebook.com/events/discovery/?acontext=%7B%22ref%22%3A44%2C%22unit_ref%22%3A%22related_events%22%2C%22source%22%3A1%2C%22action_history%22%3A%22%5B%7B%5C%22surface%5C%22%3A%5C%22permalink%5C%22%2C%5C%22mechanism%5C%22%3A%5C%22RHC%5C%22%2C%5C%22extra_data%5C%22%3A%5B%5D%7D%2C%7B%5C%22surface%5C%22%3A%5C%22permalink%5C%22%2C%5C%22mechanism%5C%22%3A%5C%22surface%5C%22%2C%5C%22extra_data%5C%22%3A%5B%5D%7D%2C%7B%5C%22surface%5C%22%3A%5C%22permalink%5C%22%2C%5C%22mechanism%5C%22%3A%5C%22event_information%5C%22%2C%5C%22extra_data%5C%22%3A%7B%5C%22tag%5C%22%3A%5C%22Drama+%28theater%29%5C%22%7D%7D%5D%22%2C%22has_source%22%3Atrue%7D&amp\;suggestion_token=%7B%22tags%22%3A%5B405942789751958%5D%7D" style="color: rgb(54\, 88\, 153)\; cursor: pointer\; text-decoration-line: none\; font-family: inherit\;"><span class="_47od" style="background-color: rgb(237\, 242\, 250)\; border-radius: 2px\; color: rgb(32\, 55\, 95)\; display: block\; height: 14px\; line-height: 14px\; margin: 0px 4px 4px 0px\; padding: 4px 6px\; position: relative\; font-family: inherit\;">Drama (theater)</span></a></li>\n</ul>\n</div>\n
LOCATION:Driftwood Playhouse 120 E 3rd St. Aberdeen\, WA
UID:e.26.8370
SEQUENCE:3
DTSTAMP:20260425T163447Z
URL:https://chamber.graysharbor.org/events/details/nuncrackers-8370
END:VEVENT

END:VCALENDAR
