BEGIN:VCALENDAR
VERSION:2.0
PRODID:-//ChamberMaster//Event Calendar 2.0//EN
METHOD:PUBLISH
X-PUBLISHED-TTL:P3D
REFRESH-INTERVAL:P3D
CALSCALE:GREGORIAN
BEGIN:VEVENT
DTSTART:20190526T020000Z
DTEND:20190526T050000Z
X-MICROSOFT-CDO-ALLDAYEVENT:FALSE
SUMMARY:NW Vintage Modifieds on Dirt at Grays Harbor Raceway
DESCRIPTION:Vintage Modified Racing thanks to the sponsor\, Shane Conway\, AAMS for supporting the club. \nDirt racing at the Grays Harbor Raceway with Outlaw tuners\, Street Stocks\, Wingless Sprint Series and a whole lot of fun! \nStick around for a fantastic firework show following the event.
X-ALT-DESC;FMTTYPE=text/html:<font color="#1d2129" style="font-family: Arial\, sans-serif\;"><span style="white-space: pre-wrap\;">Vintage Modified Racing thanks to the sponsor\,</span></font><span style="font-family: Arial\, sans-serif\; font-size: medium\;">&nbsp\;</span><a href="https://www.facebook.com/ShaneConwayCS/" style="text-decoration: none\; color: rgb(56\, 88\, 152)\; cursor: pointer\; font-family: system-ui\, -apple-system\, BlinkMacSystemFont\, &quot\;.SFNSText-Regular&quot\;\, sans-serif\; white-space: pre-wrap\;" target="_blank">Shane Conway\, AAMS</a><span style="caret-color: rgb(29\, 33\, 41)\; color: rgb(29\, 33\, 41)\; font-family: system-ui\, -apple-system\, BlinkMacSystemFont\, &quot\;.SFNSText-Regular&quot\;\, sans-serif\; white-space: pre-wrap\;"> for supporting the club.&nbsp\;</span>\n<div style="font-family: Arial\, sans-serif\;"><span style="caret-color: rgb(29\, 33\, 41)\; color: rgb(29\, 33\, 41)\; font-family: system-ui\, -apple-system\, BlinkMacSystemFont\, &quot\;.SFNSText-Regular&quot\;\, sans-serif\; white-space: pre-wrap\;">Dirt racing at the </span><a href="https://www.facebook.com/GHRaceway/" style="text-decoration: none\; color: rgb(56\, 88\, 152)\; cursor: pointer\; font-family: system-ui\, -apple-system\, BlinkMacSystemFont\, &quot\;.SFNSText-Regular&quot\;\, sans-serif\; white-space: pre-wrap\;" target="_blank">Grays Harbor Raceway</a><span style="caret-color: rgb(29\, 33\, 41)\; color: rgb(29\, 33\, 41)\; font-family: system-ui\, -apple-system\, BlinkMacSystemFont\, &quot\;.SFNSText-Regular&quot\;\, sans-serif\; white-space: pre-wrap\;"> with Outlaw tuners\, Street Stocks\, </span><a href="https://www.facebook.com/winglesssprintseries/" style="text-decoration: none\; color: rgb(56\, 88\, 152)\; cursor: pointer\; font-family: system-ui\, -apple-system\, BlinkMacSystemFont\, &quot\;.SFNSText-Regular&quot\;\, sans-serif\; white-space: pre-wrap\;" target="_blank">Wingless Sprint Series</a>&nbsp\;and a whole lot of fun!&nbsp\;\n<div style="font-family: Arial\, sans-serif\;"><font color="#000000">Stick around for a fantastic&nbsp\;firework show following the event.</font></div>\n\n<div style="font-family: Arial\, sans-serif\;">\n<p style="margin: 0px 0px 1em\; padding: 0px\; border: 0px\; outline: 0px\; font-family: Arial\; vertical-align: baseline\; line-height: 1.4\; caret-color: rgb(255\, 255\, 255)\;">&nbsp\;</p>\n</div>\n</div>\n
LOCATION:pin Grays Harbor Raceway 32 Elma McCleary Rd\, Elma\, Washington 98541
UID:e.26.12023
SEQUENCE:3
DTSTAMP:20260424T132944Z
URL:https://chamber.graysharbor.org/events/details/nw-vintage-modifieds-on-dirt-at-grays-harbor-raceway-12023
END:VEVENT

END:VCALENDAR
