BEGIN:VCALENDAR
VERSION:2.0
PRODID:-//ChamberMaster//Event Calendar 2.0//EN
METHOD:PUBLISH
X-PUBLISHED-TTL:P3D
REFRESH-INTERVAL:P3D
CALSCALE:GREGORIAN
BEGIN:VEVENT
DTSTART:20170909T160000Z
DTEND:20170909T220000Z
X-MICROSOFT-CDO-ALLDAYEVENT:FALSE
SUMMARY:Oakville Community Harvest Festival
DESCRIPTION:A day of food and fun for the entire family! Event sponsored by the Oakville Chamber of Commerce and the Oakville Recreational Event center.
X-ALT-DESC;FMTTYPE=text/html:A day of food and fun for the entire family! Event sponsored by the Oakville Chamber of Commerce and the Oakville Recreational Event center.
LOCATION:Oakville Recreational Events Center - 7000 Hwy 12 Oakville\, WA 98568
UID:e.26.8168
SEQUENCE:3
DTSTAMP:20260425T214555Z
URL:https://chamber.graysharbor.org/events/details/oakville-community-harvest-festival-09-09-2017-8168
END:VEVENT

END:VCALENDAR
