BEGIN:VCALENDAR
VERSION:2.0
PRODID:-//ChamberMaster//Event Calendar 2.0//EN
METHOD:PUBLISH
X-PUBLISHED-TTL:P3D
REFRESH-INTERVAL:P3D
CALSCALE:GREGORIAN
BEGIN:VEVENT
DTSTART:20190706T180000Z
DTEND:20190706T210000Z
X-MICROSOFT-CDO-ALLDAYEVENT:FALSE
SUMMARY:Oakville Independence Celebration Parade & Car Show
DESCRIPTION:Celebrate AMERICA THE BEAUTIFUL during the 2019 Oakville Parade and Car Show through the historic streets of the city!\nThe fun begins at 11 am on Saturday\, July 6th\, 2019. Bring the family out for a patriotic\, fun-filled day!
X-ALT-DESC;FMTTYPE=text/html:<div style="box-sizing: border-box\; -webkit-font-smoothing: subpixel-antialiased\; margin: 0px\; padding: 0px\; border: 0px\; outline: 0px\; font-size: 17.33333396911621px\; font-family: &quot\;Roboto Condensed&quot\;\; vertical-align: baseline\; caret-color: rgb(20\, 20\, 20)\; color: rgb(20\, 20\, 20)\;"><span style="font-family:arial\;"><span style="font-size:14px\;"><font color="#1d2129" style="box-sizing: border-box\; -webkit-font-smoothing: subpixel-antialiased\;"><span style="box-sizing: border-box\; -webkit-font-smoothing: subpixel-antialiased\; margin: 0px\; padding: 0px\; border: 0px\; outline: 0px\; font-style: inherit\; vertical-align: baseline\; caret-color: rgb(29\, 33\, 41)\; white-space: pre-wrap\;">Celebrate AMERICA THE BEAUTIFUL during the 2019 Oakville</span></font><span style="box-sizing: border-box\; -webkit-font-smoothing: subpixel-antialiased\; margin: 0px\; padding: 0px\; border: 0px\; outline: 0px\; font-style: inherit\; vertical-align: baseline\; caret-color: rgb(29\, 33\, 41)\; color: rgb(29\, 33\, 41)\; white-space: pre-wrap\;"> Parade and Car Show through the historic streets of the city!</span></span></span></div>\n<span style="font-family:arial\;"><span style="font-size:14px\;"><span style="box-sizing: border-box\; -webkit-font-smoothing: subpixel-antialiased\; margin: 0px\; padding: 0px\; border: 0px\; outline: 0px\; vertical-align: baseline\; caret-color: rgb(29\, 33\, 41)\; color: rgb(29\, 33\, 41)\; white-space: pre-wrap\;">The fun begins at 11 am on Saturday\, July 6th\, 2019. Bring the family out for a patriotic\, fun-filled day!</span></span></span>
LOCATION:Oakville\, WA
UID:e.26.12064
SEQUENCE:3
DTSTAMP:20260424T104454Z
URL:https://chamber.graysharbor.org/events/details/oakville-independence-celebration-parade-car-show-12064
END:VEVENT

END:VCALENDAR
