BEGIN:VCALENDAR
VERSION:2.0
PRODID:-//ChamberMaster//Event Calendar 2.0//EN
METHOD:PUBLISH
X-PUBLISHED-TTL:P3D
REFRESH-INTERVAL:P3D
CALSCALE:GREGORIAN
BEGIN:VEVENT
DTSTART:20190804T010000Z
DTEND:20190804T040000Z
X-MICROSOFT-CDO-ALLDAYEVENT:FALSE
SUMMARY:Oakville Rodeo & Wild Horse Race
DESCRIPTION:Oakville Regional Event Center presents the 2019 First Wild Horse Race of the year!\nA Professional Rodeo and Wild Horse Race returns to Oakville on August 3rd at the Oakville Regional Event Center\, just west of the high school in Oakville. This rodeo will highlight bull riding\, bronc riding and wild horse races. Gates open at 4pm. The rodeo and beer garden starts at 6pm.\n\nHosting vendors and KAYO's Street Team on site!\n\nLive music and the arena will be open to dance starting at 9pm. \n\nThis event promises to be a crowd pleaser!\n\nMore information about Oakville events is available at their vendor booth at Swede Hall.
X-ALT-DESC;FMTTYPE=text/html:<span style="font-size:14px\;"><span style="font-family:arial\;"><span style="box-sizing: border-box\; -webkit-font-smoothing: subpixel-antialiased\; margin: 0px\; padding: 0px\; border: 0px\; outline: 0px\; vertical-align: baseline\; caret-color: rgb(29\, 33\, 41)\; color: rgb(29\, 33\, 41)\; white-space: pre-wrap\;">Oakville Regional Event Center presents the 2019 First Wild Horse Race of the year!</span></span></span>\n<div style="box-sizing: border-box\; -webkit-font-smoothing: subpixel-antialiased\; margin: 0px\; padding: 0px\; border: 0px\; outline: 0px\; font-size: 17.33333396911621px\; font-family: &quot\;Roboto Condensed&quot\;\; vertical-align: baseline\; caret-color: rgb(20\, 20\, 20)\; color: rgb(20\, 20\, 20)\;"><span style="font-size:14px\;"><span style="font-family:arial\;"><span style="box-sizing: border-box\; -webkit-font-smoothing: subpixel-antialiased\; margin: 0px\; padding: 0px\; border: 0px\; outline: 0px\; font-style: inherit\; vertical-align: baseline\; caret-color: rgb(29\, 33\, 41)\; color: rgb(29\, 33\, 41)\; white-space: pre-wrap\;">A Professional Rodeo and Wild Horse Race returns to Oakville on August 3rd at the Oakville Regional Event Center\, just west of the high school in Oakville. This rodeo will highlight bull riding\, bronc riding and wild horse races. Gates open at 4pm. The rodeo and beer garden starts at 6pm.</span></span></span><br style="box-sizing: border-box\; -webkit-font-smoothing: subpixel-antialiased\; caret-color: rgb(29\, 33\, 41)\; color: rgb(29\, 33\, 41)\; font-family: system-ui\, -apple-system\, BlinkMacSystemFont\, &quot\;.SFNSText-Regular&quot\;\, sans-serif\; white-space: pre-wrap\;" />\n<span style="font-size:14px\;"><span style="font-family:arial\;"><span style="box-sizing: border-box\; -webkit-font-smoothing: subpixel-antialiased\; margin: 0px\; padding: 0px\; border: 0px\; outline: 0px\; font-style: inherit\; vertical-align: baseline\; caret-color: rgb(29\, 33\, 41)\; color: rgb(29\, 33\, 41)\; white-space: pre-wrap\;">Hosting vendors and KAYO&#39\;s Street Team on site!</span><br style="box-sizing: border-box\; -webkit-font-smoothing: subpixel-antialiased\; caret-color: rgb(29\, 33\, 41)\; color: rgb(29\, 33\, 41)\; font-family: system-ui\, -apple-system\, BlinkMacSystemFont\, &quot\;.SFNSText-Regular&quot\;\, sans-serif\; white-space: pre-wrap\;" />\n<span style="box-sizing: border-box\; -webkit-font-smoothing: subpixel-antialiased\; margin: 0px\; padding: 0px\; border: 0px\; outline: 0px\; font-style: inherit\; vertical-align: baseline\; caret-color: rgb(29\, 33\, 41)\; color: rgb(29\, 33\, 41)\; white-space: pre-wrap\;">Live music and the arena will be open to dance starting at 9pm. </span><br style="box-sizing: border-box\; -webkit-font-smoothing: subpixel-antialiased\; caret-color: rgb(29\, 33\, 41)\; color: rgb(29\, 33\, 41)\; font-family: system-ui\, -apple-system\, BlinkMacSystemFont\, &quot\;.SFNSText-Regular&quot\;\, sans-serif\; white-space: pre-wrap\;" />\n<span style="box-sizing: border-box\; -webkit-font-smoothing: subpixel-antialiased\; margin: 0px\; padding: 0px\; border: 0px\; outline: 0px\; font-style: inherit\; vertical-align: baseline\; caret-color: rgb(29\, 33\, 41)\; color: rgb(29\, 33\, 41)\; white-space: pre-wrap\;">This event promises to be a crowd pleaser!</span><br style="box-sizing: border-box\; -webkit-font-smoothing: subpixel-antialiased\; caret-color: rgb(29\, 33\, 41)\; color: rgb(29\, 33\, 41)\; font-family: system-ui\, -apple-system\, BlinkMacSystemFont\, &quot\;.SFNSText-Regular&quot\;\, sans-serif\; white-space: pre-wrap\;" />\n<span style="box-sizing: border-box\; -webkit-font-smoothing: subpixel-antialiased\; margin: 0px\; padding: 0px\; border: 0px\; outline: 0px\; font-style: inherit\; vertical-align: baseline\; caret-color: rgb(29\, 33\, 41)\; color: rgb(29\, 33\, 41)\; white-space: pre-wrap\;">More information about Oakville events is available at their vendor booth at Swede Hall. </span></span></span></div>\n
LOCATION:Oakville Regional Event Center 7000 US-12 Oakville\, WA 98568
UID:e.26.12073
SEQUENCE:3
DTSTAMP:20260424T090749Z
URL:https://chamber.graysharbor.org/events/details/oakville-rodeo-wild-horse-race-12073
END:VEVENT

END:VCALENDAR
