BEGIN:VCALENDAR
VERSION:2.0
PRODID:-//ChamberMaster//Event Calendar 2.0//EN
METHOD:PUBLISH
X-PUBLISHED-TTL:P3D
REFRESH-INTERVAL:P3D
CALSCALE:GREGORIAN
BEGIN:VEVENT
DTSTART:20180415T000000Z
DTEND:20180415T050000Z
X-MICROSOFT-CDO-ALLDAYEVENT:FALSE
SUMMARY:Ocean Beach Roasters & Bistro One Year Anniversary!
DESCRIPTION:April represents one year of Brodey & Mirihia's take over of Ocean Beach Roasters! Come help us celebrate with live music from Big Blue Van\, a Rose wine tasting and plenty of food specials!
X-ALT-DESC;FMTTYPE=text/html:<span style="color: rgb(75\, 79\, 86)\; font-family: Helvetica\, Arial\, sans-serif\; font-size: 14px\; background-color: rgb(255\, 255\, 255)\;">April represents one year of Brodey &amp\; Mirihia&#39\;s take over of Ocean Beach Roasters! Come help us celebrate with live music from Big Blue Van\, a Rose wine tasting and plenty of food specials!</span>
LOCATION:Ocean Beach Roasters & Bistro
UID:e.26.10569
SEQUENCE:3
DTSTAMP:20260425T113618Z
URL:https://chamber.graysharbor.org/events/details/ocean-beach-roasters-bistro-one-year-anniversary-10569
END:VEVENT

END:VCALENDAR
