BEGIN:VCALENDAR
VERSION:2.0
PRODID:-//ChamberMaster//Event Calendar 2.0//EN
METHOD:PUBLISH
X-PUBLISHED-TTL:P3D
REFRESH-INTERVAL:P3D
CALSCALE:GREGORIAN
BEGIN:VEVENT
DTSTART:20190126T013000Z
DTEND:20190126T023000Z
X-MICROSOFT-CDO-ALLDAYEVENT:FALSE
SUMMARY:Ocean Pours Taproom Ribbon Cutting
DESCRIPTION:Ocean Pours Taproom is one of Ocean Shores' newest businesses! Join Greater Grays Harbor as we welcome them to Grays Harbor with a Ribbon Cutting event on January 25th at 5:30pm. \n\n\n\nVisit their website to learn more about the services and products that they offer: oceanpourstaproom.com
X-ALT-DESC;FMTTYPE=text/html:<div data-block="true" data-editor="4c5i0" data-offset-key="u8fc-0-0" style="font-family: system-ui\, -apple-system\, BlinkMacSystemFont\, &quot\;.SFNSText-Regular&quot\;\, sans-serif\; caret-color: rgb(29\, 33\, 41)\; color: rgb(29\, 33\, 41)\; font-size: 12px\; white-space: pre-wrap\;">\n<div class="_1mf _1mj" data-offset-key="u8fc-0-0" style="position: relative\; direction: ltr\; font-family: inherit\;"><span style="font-size:16px\;"><span data-offset-key="u8fc-0-0" style="font-family: inherit\;">Ocean Pours Taproom is one of Ocean Shores&#39\; newest businesses! Join Greater Grays Harbor as we welcome them to Grays Harbor with a Ribbon Cutting event on January 25th at 5:30pm. </span></span></div>\n</div>\n\n<div data-block="true" data-editor="4c5i0" data-offset-key="em2k9-0-0" style="font-family: system-ui\, -apple-system\, BlinkMacSystemFont\, &quot\;.SFNSText-Regular&quot\;\, sans-serif\; caret-color: rgb(29\, 33\, 41)\; color: rgb(29\, 33\, 41)\; font-size: 12px\; white-space: pre-wrap\;">\n<div class="_1mf _1mj" data-offset-key="em2k9-0-0" style="position: relative\; direction: ltr\; font-family: inherit\;"><span style="font-size:16px\;"><span data-offset-key="em2k9-0-0" style="font-family: inherit\;">Visit their website to learn more about the services and products that they offer: oceanpourstaproom.com</span></span></div>\n</div>\n
LOCATION:Ocean Pours Taproom 759 Ocean Shores Blvd NW Ocean Shores\, WA
UID:e.26.11659
SEQUENCE:3
DTSTAMP:20260424T194452Z
URL:https://chamber.graysharbor.org/events/details/ocean-pours-taproom-ribbon-cutting-11659
END:VEVENT

END:VCALENDAR
