BEGIN:VCALENDAR
VERSION:2.0
PRODID:-//ChamberMaster//Event Calendar 2.0//EN
METHOD:PUBLISH
X-PUBLISHED-TTL:P3D
REFRESH-INTERVAL:P3D
CALSCALE:GREGORIAN
BEGIN:VEVENT
DTSTART:20190406T233000Z
DTEND:20190407T033000Z
X-MICROSOFT-CDO-ALLDAYEVENT:FALSE
SUMMARY:Ocean Shores 4th Annual Benefit
DESCRIPTION:Ocean Shores Food Bank 4th Annual Benefit "Rockin' The Shores" by popular demand "Raucous". Dance and Classic Rock n' Roll. Saturday\, April 6th. Tickets available at Ocean Shores Visitor's Center and online: tickets@oceanshoresfoodbank.org Tickets are $35 each or table of 8/$300. Silent auction 4:30-6:00pm Dinner by George Lee & 6:00pm Live Music by Raucous from 7:00pm-8:30pm OSFB - A 501(c)(3) Organization
X-ALT-DESC;FMTTYPE=text/html:Ocean Shores Food Bank 4th Annual Benefit &ldquo\;Rockin&rsquo\; The Shores&rdquo\; by popular demand &ldquo\;Raucous&rdquo\;. Dance and Classic Rock n&rsquo\; Roll. Saturday\, April 6th. Tickets available at Ocean Shores Visitor&rsquo\;s Center and online: tickets@oceanshoresfoodbank.org Tickets are $35 each or table of 8/$300. Silent auction 4:30-6:00pm Dinner by George Lee &amp\; 6:00pm Live Music by Raucous from 7:00pm-8:30pm OSFB - A 501(c)(3) Organization
LOCATION:Ocean Shores Convention Center 120 W Chance a la Mer Ave.
UID:e.26.11883
SEQUENCE:3
DTSTAMP:20260424T151256Z
URL:https://chamber.graysharbor.org/events/details/ocean-shores-4th-annual-benefit-11883
END:VEVENT

END:VCALENDAR
