BEGIN:VCALENDAR
VERSION:2.0
PRODID:-//ChamberMaster//Event Calendar 2.0//EN
METHOD:PUBLISH
X-PUBLISHED-TTL:P3D
REFRESH-INTERVAL:P3D
CALSCALE:GREGORIAN
BEGIN:VEVENT
DTSTART:20190302T180000Z
DTEND:20190303T230000Z
X-MICROSOFT-CDO-ALLDAYEVENT:FALSE
SUMMARY:Ocean Shores Beachcombers Fun Fair
DESCRIPTION:Come experience life at the beach! See\, hear\, and buy treasures from the Pacific Coast. Vendors\, food\, speakers\, and displays. Want to display your treasures? Enter to win ribbons and maybe "People's Choice" award.
X-ALT-DESC;FMTTYPE=text/html:<span style="caret-color: rgb(29\, 33\, 41)\; color: rgb(29\, 33\, 41)\; font-family: system-ui\, -apple-system\, BlinkMacSystemFont\, &quot\;.SFNSText-Regular&quot\;\, sans-serif\; font-size: 14px\; white-space: pre-wrap\;">Come experience life at the beach! See\, hear\, and buy treasures from the Pacific Coast. Vendors\, food\, speakers\, and displays. Want to display your treasures? Enter to win ribbons and maybe &quot\;People&#39\;s Choice&quot\; award. </span>
LOCATION:pin Ocean Shores Convention Center 120 W Chance A la Mer NW\, Ocean Shores\, Washington 98569
UID:e.26.11778
SEQUENCE:3
DTSTAMP:20260424T163450Z
URL:https://chamber.graysharbor.org/events/details/ocean-shores-beachcombers-fun-fair-11778
END:VEVENT

END:VCALENDAR
