BEGIN:VCALENDAR
VERSION:2.0
PRODID:-//ChamberMaster//Event Calendar 2.0//EN
METHOD:PUBLISH
X-PUBLISHED-TTL:P3D
REFRESH-INTERVAL:P3D
CALSCALE:GREGORIAN
BEGIN:VEVENT
DTSTART:20210211T230000Z
DTEND:20210212T000000Z
X-MICROSOFT-CDO-ALLDAYEVENT:FALSE
SUMMARY:Ocean Shores Branch Roundtable
DESCRIPTION:Join the business community of Ocean Shores in a weekly roundtable to address relevant business issues in the community.\n\n\n\nThis event will occur on the second Thursday of the month at 3:00pm.  Pre-registration is required.\n\n\n\nAttendees will receive the log-in details the morning of the event.  In order to receive the access information in a timely fashion please register no later than the morning of the event.
X-ALT-DESC;FMTTYPE=text/html:<br />\n<br />\n<span style="font-size:14px\;">Join the business community of Ocean Shores in a weekly roundtable to address relevant business issues in the community.<br />\n<br />\nThis event will occur on the second Thursday of the month at 3:00pm.&nbsp\; Pre-registration is required.<br />\n<br />\nAttendees will receive the log-in details the morning of the event.&nbsp\; In order to receive the access information in a timely fashion please register no later than the morning of the event.&nbsp\;&nbsp\;&nbsp\;&nbsp\;</span>
LOCATION:This event will take place via Zoom. Attendees will receive the log-in details the morning of the event. In order to receive the access information in a timely fashion please register no later than the day before the event.
UID:e.26.12564
SEQUENCE:3
DTSTAMP:20260424T025715Z
URL:https://chamber.graysharbor.org/events/details/ocean-shores-branch-roundtable-02-11-2021-12564
END:VEVENT

END:VCALENDAR
