BEGIN:VCALENDAR
VERSION:2.0
PRODID:-//ChamberMaster//Event Calendar 2.0//EN
METHOD:PUBLISH
X-PUBLISHED-TTL:P3D
REFRESH-INTERVAL:P3D
CALSCALE:GREGORIAN
BEGIN:VEVENT
DTSTART:20201210T230000Z
DTEND:20201211T000000Z
X-MICROSOFT-CDO-ALLDAYEVENT:FALSE
SUMMARY:Ocean Shores Businesses Roundtable
DESCRIPTION:Ocean Shores area businesses are invited to this roundtable to discuss how GGHI can support the business community in the area. Join us to discuss how a "branch" of Greater Grays Harbor\, Inc. in Ocean Shores could be organized and make an impact to support the business community.
X-ALT-DESC;FMTTYPE=text/html:<span style="font-size:16px\;"><span style="font-family:arial\;"><span style="color: rgb(29\, 28\, 29)\; font-variant-ligatures: common-ligatures\; orphans: 2\; widows: 2\; background-color: rgb(248\, 248\, 248)\; text-decoration-thickness: initial\;">Ocean Shores area businesses are invited to this roundtable to discuss how GGHI can support the business community in the area. Join us to discuss how a &quot\;branch&quot\; of Greater Grays Harbor\, Inc. in Ocean Shores could be organized and make an impact to support the business community.</span></span></span>
LOCATION:Zoom Meeting
UID:e.26.12542
SEQUENCE:3
DTSTAMP:20260424T042137Z
URL:https://chamber.graysharbor.org/events/details/ocean-shores-businesses-roundtable-12542
END:VEVENT

END:VCALENDAR
